BEGIN:VCALENDAR
VERSION:2.0
PRODID:-//BG|BRG Porcia - ECPv6.15.20//NONSGML v1.0//EN
CALSCALE:GREGORIAN
METHOD:PUBLISH
X-WR-CALNAME:BG|BRG Porcia
X-ORIGINAL-URL:https://www.porciagymnasium.at
X-WR-CALDESC:Veranstaltungen für BG|BRG Porcia
REFRESH-INTERVAL;VALUE=DURATION:PT1H
X-Robots-Tag:noindex
X-PUBLISHED-TTL:PT1H
BEGIN:VTIMEZONE
TZID:Europe/Vienna
BEGIN:DAYLIGHT
TZOFFSETFROM:+0100
TZOFFSETTO:+0200
TZNAME:CEST
DTSTART:20230326T010000
END:DAYLIGHT
BEGIN:STANDARD
TZOFFSETFROM:+0200
TZOFFSETTO:+0100
TZNAME:CET
DTSTART:20231029T010000
END:STANDARD
BEGIN:DAYLIGHT
TZOFFSETFROM:+0100
TZOFFSETTO:+0200
TZNAME:CEST
DTSTART:20240331T010000
END:DAYLIGHT
BEGIN:STANDARD
TZOFFSETFROM:+0200
TZOFFSETTO:+0100
TZNAME:CET
DTSTART:20241027T010000
END:STANDARD
BEGIN:DAYLIGHT
TZOFFSETFROM:+0100
TZOFFSETTO:+0200
TZNAME:CEST
DTSTART:20250330T010000
END:DAYLIGHT
BEGIN:STANDARD
TZOFFSETFROM:+0200
TZOFFSETTO:+0100
TZNAME:CET
DTSTART:20251026T010000
END:STANDARD
END:VTIMEZONE
BEGIN:VEVENT
DTSTART;TZID=Europe/Vienna:20240701T080000
DTEND;TZID=Europe/Vienna:20240701T170000
DTSTAMP:20260420T170856
CREATED:20240528T075022Z
LAST-MODIFIED:20240528T075142Z
UID:11802-1719820800-1719853200@www.porciagymnasium.at
SUMMARY:KV Tag
DESCRIPTION:
URL:https://www.porciagymnasium.at/termin/kv-tag-2/
END:VEVENT
BEGIN:VEVENT
DTSTART;TZID=Europe/Vienna:20240702T080000
DTEND;TZID=Europe/Vienna:20240702T170000
DTSTAMP:20260420T170856
CREATED:20240528T075203Z
LAST-MODIFIED:20240528T075203Z
UID:11804-1719907200-1719939600@www.porciagymnasium.at
SUMMARY:KV Tag
DESCRIPTION:
URL:https://www.porciagymnasium.at/termin/kv-tag-3/
END:VEVENT
BEGIN:VEVENT
DTSTART;TZID=Europe/Vienna:20240703T080000
DTEND;TZID=Europe/Vienna:20240703T120000
DTSTAMP:20260420T170856
CREATED:20240214T090629Z
LAST-MODIFIED:20240214T090629Z
UID:11410-1719993600-1720008000@www.porciagymnasium.at
SUMMARY:Aufnahmeprüfung DEUTSCH
DESCRIPTION:
URL:https://www.porciagymnasium.at/termin/aufnahmepruefung-deutsch-2/
CATEGORIES:Dein Weg ins Porciagymnasium
END:VEVENT
BEGIN:VEVENT
DTSTART;TZID=Europe/Vienna:20240703T080000
DTEND;TZID=Europe/Vienna:20240703T120000
DTSTAMP:20260420T170856
CREATED:20240528T074940Z
LAST-MODIFIED:20240528T074940Z
UID:11800-1719993600-1720008000@www.porciagymnasium.at
SUMMARY:Volleyball Finale
DESCRIPTION:
URL:https://www.porciagymnasium.at/termin/volleyball-finale/
END:VEVENT
BEGIN:VEVENT
DTSTART;TZID=Europe/Vienna:20240704T080000
DTEND;TZID=Europe/Vienna:20240704T093000
DTSTAMP:20260420T170856
CREATED:20231005T093530Z
LAST-MODIFIED:20240516T080843Z
UID:10406-1720080000-1720085400@www.porciagymnasium.at
SUMMARY:2. Klassen  - Schulschlussgottesdienst
DESCRIPTION:
URL:https://www.porciagymnasium.at/termin/2-klassen-schulschlussgottesdienst/
LOCATION:Kath. Stadtpfarrkirche
END:VEVENT
BEGIN:VEVENT
DTSTART;TZID=Europe/Vienna:20240704T080000
DTEND;TZID=Europe/Vienna:20240704T120000
DTSTAMP:20260420T170856
CREATED:20240214T090657Z
LAST-MODIFIED:20240214T090657Z
UID:11412-1720080000-1720094400@www.porciagymnasium.at
SUMMARY:Aufnahmeprüfung MATHEMATIK
DESCRIPTION:
URL:https://www.porciagymnasium.at/termin/aufnahmepruefung-mathematik-2/
CATEGORIES:Dein Weg ins Porciagymnasium
END:VEVENT
BEGIN:VEVENT
DTSTART;TZID=Europe/Vienna:20240704T100000
DTEND;TZID=Europe/Vienna:20240704T113000
DTSTAMP:20260420T170856
CREATED:20231005T093936Z
LAST-MODIFIED:20240516T081615Z
UID:10408-1720087200-1720092600@www.porciagymnasium.at
SUMMARY:4.  Klassen - Schulschlussgottesdienst
DESCRIPTION:
URL:https://www.porciagymnasium.at/termin/4-klassen-schulschlussgottesdienst/
LOCATION:Kath. Stadtpfarrkirche
END:VEVENT
BEGIN:VEVENT
DTSTART;TZID=Europe/Vienna:20240705T080000
DTEND;TZID=Europe/Vienna:20240705T170000
DTSTAMP:20260420T170856
CREATED:20230814T072112Z
LAST-MODIFIED:20230814T072112Z
UID:10051-1720166400-1720198800@www.porciagymnasium.at
SUMMARY:Schulschluss
DESCRIPTION:
URL:https://www.porciagymnasium.at/termin/schulschluss-4/
CATEGORIES:WICHTIG
END:VEVENT
BEGIN:VEVENT
DTSTART;TZID=Europe/Vienna:20240705T074500
DTEND;TZID=Europe/Vienna:20240705T074500
DTSTAMP:20260420T170856
CREATED:20240528T074557Z
LAST-MODIFIED:20240528T074725Z
UID:11798-1720165500-1720165500@www.porciagymnasium.at
SUMMARY:Zeugnis
DESCRIPTION:
URL:https://www.porciagymnasium.at/termin/zeugnis-2/
CATEGORIES:WICHTIG
END:VEVENT
BEGIN:VEVENT
DTSTART;TZID=Europe/Vienna:20240706T080000
DTEND;TZID=Europe/Vienna:20240908T170000
DTSTAMP:20260420T170856
CREATED:20230814T072146Z
LAST-MODIFIED:20230814T072146Z
UID:10053-1720252800-1725814800@www.porciagymnasium.at
SUMMARY:Sommerferien
DESCRIPTION:
URL:https://www.porciagymnasium.at/termin/sommerferien-5/
CATEGORIES:FREI
END:VEVENT
END:VCALENDAR