BEGIN:VCALENDAR
VERSION:2.0
PRODID:-//BG|BRG Porcia - ECPv6.15.20//NONSGML v1.0//EN
CALSCALE:GREGORIAN
METHOD:PUBLISH
X-WR-CALNAME:BG|BRG Porcia
X-ORIGINAL-URL:https://www.porciagymnasium.at
X-WR-CALDESC:Veranstaltungen für BG|BRG Porcia
REFRESH-INTERVAL;VALUE=DURATION:PT1H
X-Robots-Tag:noindex
X-PUBLISHED-TTL:PT1H
BEGIN:VTIMEZONE
TZID:Europe/Vienna
BEGIN:DAYLIGHT
TZOFFSETFROM:+0100
TZOFFSETTO:+0200
TZNAME:CEST
DTSTART:20230326T010000
END:DAYLIGHT
BEGIN:STANDARD
TZOFFSETFROM:+0200
TZOFFSETTO:+0100
TZNAME:CET
DTSTART:20231029T010000
END:STANDARD
BEGIN:DAYLIGHT
TZOFFSETFROM:+0100
TZOFFSETTO:+0200
TZNAME:CEST
DTSTART:20240331T010000
END:DAYLIGHT
BEGIN:STANDARD
TZOFFSETFROM:+0200
TZOFFSETTO:+0100
TZNAME:CET
DTSTART:20241027T010000
END:STANDARD
BEGIN:DAYLIGHT
TZOFFSETFROM:+0100
TZOFFSETTO:+0200
TZNAME:CEST
DTSTART:20250330T010000
END:DAYLIGHT
BEGIN:STANDARD
TZOFFSETFROM:+0200
TZOFFSETTO:+0100
TZNAME:CET
DTSTART:20251026T010000
END:STANDARD
END:VTIMEZONE
BEGIN:VEVENT
DTSTART;TZID=Europe/Vienna:20240501T080000
DTEND;TZID=Europe/Vienna:20240501T170000
DTSTAMP:20260420T222114
CREATED:20230814T071149Z
LAST-MODIFIED:20230814T071149Z
UID:10039-1714550400-1714582800@www.porciagymnasium.at
SUMMARY:Staatsfeiertag
DESCRIPTION:
URL:https://www.porciagymnasium.at/termin/staatsfeiertag-5/
CATEGORIES:FREI
END:VEVENT
BEGIN:VEVENT
DTSTART;TZID=Europe/Vienna:20240502T080000
DTEND;TZID=Europe/Vienna:20240502T170000
DTSTAMP:20260420T222114
CREATED:20231116T100442Z
LAST-MODIFIED:20231116T100442Z
UID:10891-1714636800-1714669200@www.porciagymnasium.at
SUMMARY:Schriftliche Klausur - Deutsch
DESCRIPTION:
URL:https://www.porciagymnasium.at/termin/schriftliche-klausur-deutsch-4/
CATEGORIES:Reifeprüfung
END:VEVENT
BEGIN:VEVENT
DTSTART;TZID=Europe/Vienna:20240507T080000
DTEND;TZID=Europe/Vienna:20240507T170000
DTSTAMP:20260420T222114
CREATED:20231116T100535Z
LAST-MODIFIED:20231116T100535Z
UID:10893-1715068800-1715101200@www.porciagymnasium.at
SUMMARY:Schriftliche Klausur - Mathematik
DESCRIPTION:
URL:https://www.porciagymnasium.at/termin/schriftliche-klausur-mathematik-4/
CATEGORIES:Reifeprüfung
END:VEVENT
BEGIN:VEVENT
DTSTART;TZID=Europe/Vienna:20240508T080000
DTEND;TZID=Europe/Vienna:20240508T170000
DTSTAMP:20260420T222114
CREATED:20231116T100615Z
LAST-MODIFIED:20231116T100615Z
UID:10895-1715155200-1715187600@www.porciagymnasium.at
SUMMARY:Schriftliche Klausur - Englisch
DESCRIPTION:
URL:https://www.porciagymnasium.at/termin/schriftliche-klausur-englisch-4/
CATEGORIES:Reifeprüfung
END:VEVENT
BEGIN:VEVENT
DTSTART;TZID=Europe/Vienna:20240508T163000
DTEND;TZID=Europe/Vienna:20240508T230000
DTSTAMP:20260420T222114
CREATED:20240306T110324Z
LAST-MODIFIED:20240306T110324Z
UID:11490-1715185800-1715209200@www.porciagymnasium.at
SUMMARY:Musicalfahrt "La Cage aux Folle"
DESCRIPTION:
URL:https://www.porciagymnasium.at/termin/musicalfahrt-la-cage-aux-folle/
LOCATION:Stadttheater Klagenfurt
END:VEVENT
BEGIN:VEVENT
DTSTART;TZID=Europe/Vienna:20240509T080000
DTEND;TZID=Europe/Vienna:20240509T170000
DTSTAMP:20260420T222114
CREATED:20230814T071237Z
LAST-MODIFIED:20230814T071237Z
UID:10041-1715241600-1715274000@www.porciagymnasium.at
SUMMARY:Christi Himmelfahrt
DESCRIPTION:
URL:https://www.porciagymnasium.at/termin/christi-himmelfahrt-4/
CATEGORIES:FREI
END:VEVENT
BEGIN:VEVENT
DTSTART;TZID=Europe/Vienna:20240510T080000
DTEND;TZID=Europe/Vienna:20240510T170000
DTSTAMP:20260420T222114
CREATED:20230814T071321Z
LAST-MODIFIED:20230814T071321Z
UID:10043-1715328000-1715360400@www.porciagymnasium.at
SUMMARY:SGA-frei
DESCRIPTION:
URL:https://www.porciagymnasium.at/termin/sga-frei-26/
CATEGORIES:FREI
END:VEVENT
BEGIN:VEVENT
DTSTART;TZID=Europe/Vienna:20240513T080000
DTEND;TZID=Europe/Vienna:20240513T170000
DTSTAMP:20260420T222114
CREATED:20231116T100701Z
LAST-MODIFIED:20231116T100701Z
UID:10897-1715587200-1715619600@www.porciagymnasium.at
SUMMARY:Schriftliche Klausur - Französisch\, BIU\, DG\, INF\, PH
DESCRIPTION:
URL:https://www.porciagymnasium.at/termin/schriftliche-klausur-franzoesisch-biu-dg-inf-ph/
CATEGORIES:Reifeprüfung
END:VEVENT
BEGIN:VEVENT
DTSTART;TZID=Europe/Vienna:20240513T080000
DTEND;TZID=Europe/Vienna:20240517T170000
DTSTAMP:20260420T222114
CREATED:20231025T091430Z
LAST-MODIFIED:20231025T091430Z
UID:10635-1715587200-1715965200@www.porciagymnasium.at
SUMMARY:4.BR  -  Abschlusstage
DESCRIPTION:
URL:https://www.porciagymnasium.at/termin/4-br-abschlusstage/
LOCATION:Wien
END:VEVENT
BEGIN:VEVENT
DTSTART;TZID=Europe/Vienna:20240513T080000
DTEND;TZID=Europe/Vienna:20240517T170000
DTSTAMP:20260420T222114
CREATED:20231025T092028Z
LAST-MODIFIED:20231025T092028Z
UID:10642-1715587200-1715965200@www.porciagymnasium.at
SUMMARY:4.S  -  Abschlussfahrt - Sportwoche
DESCRIPTION:
URL:https://www.porciagymnasium.at/termin/4-s-abschlussfahrt-sportwoche/
LOCATION:Rovinj
END:VEVENT
BEGIN:VEVENT
DTSTART;TZID=Europe/Vienna:20240514T080000
DTEND;TZID=Europe/Vienna:20240514T170000
DTSTAMP:20260420T222114
CREATED:20231116T100752Z
LAST-MODIFIED:20231116T100752Z
UID:10899-1715673600-1715706000@www.porciagymnasium.at
SUMMARY:Schriftliche Klausur - Italienisch
DESCRIPTION:
URL:https://www.porciagymnasium.at/termin/schriftliche-klausur-italienisch-4/
CATEGORIES:Reifeprüfung
END:VEVENT
BEGIN:VEVENT
DTSTART;TZID=Europe/Vienna:20240516T080000
DTEND;TZID=Europe/Vienna:20240516T170000
DTSTAMP:20260420T222114
CREATED:20231116T100837Z
LAST-MODIFIED:20231116T100837Z
UID:10901-1715846400-1715878800@www.porciagymnasium.at
SUMMARY:Schriftliche Klausur - Latein
DESCRIPTION:
URL:https://www.porciagymnasium.at/termin/schriftliche-klausur-latein-5/
CATEGORIES:Reifeprüfung
END:VEVENT
BEGIN:VEVENT
DTSTART;TZID=Europe/Vienna:20240518T080000
DTEND;TZID=Europe/Vienna:20240520T170000
DTSTAMP:20260420T222114
CREATED:20230814T071432Z
LAST-MODIFIED:20230814T071432Z
UID:10045-1716019200-1716224400@www.porciagymnasium.at
SUMMARY:Pfingstferien
DESCRIPTION:
URL:https://www.porciagymnasium.at/termin/pfingstferien-7/
CATEGORIES:FREI
END:VEVENT
BEGIN:VEVENT
DTSTART;TZID=Europe/Vienna:20240520T080000
DTEND;TZID=Europe/Vienna:20240524T170000
DTSTAMP:20260420T222114
CREATED:20231003T080650Z
LAST-MODIFIED:20231003T080650Z
UID:10327-1716192000-1716570000@www.porciagymnasium.at
SUMMARY:5. Klassen - Sportwoche
DESCRIPTION:
URL:https://www.porciagymnasium.at/termin/5-klassen-sportwoche/
END:VEVENT
BEGIN:VEVENT
DTSTART;TZID=Europe/Vienna:20240522T080000
DTEND;TZID=Europe/Vienna:20240522T170000
DTSTAMP:20260420T222114
CREATED:20231116T102151Z
LAST-MODIFIED:20231116T102151Z
UID:10903-1716364800-1716397200@www.porciagymnasium.at
SUMMARY:Abgaben der korrigierten Klausuren
DESCRIPTION:
URL:https://www.porciagymnasium.at/termin/abgaben-der-korrigierten-klausuren/
CATEGORIES:Reifeprüfung
END:VEVENT
BEGIN:VEVENT
DTSTART;TZID=Europe/Vienna:20240523T153000
DTEND;TZID=Europe/Vienna:20240523T163000
DTSTAMP:20260420T222114
CREATED:20240214T090048Z
LAST-MODIFIED:20240214T091130Z
UID:11400-1716478200-1716481800@www.porciagymnasium.at
SUMMARY:Zwischenkonferenz
DESCRIPTION:
URL:https://www.porciagymnasium.at/termin/zwischenkonferenz/
CATEGORIES:Lehrer,Reifeprüfung
END:VEVENT
BEGIN:VEVENT
DTSTART;TZID=Europe/Vienna:20240523T163000
DTEND;TZID=Europe/Vienna:20240523T180000
DTSTAMP:20260420T222114
CREATED:20240214T091159Z
LAST-MODIFIED:20240214T091159Z
UID:11414-1716481800-1716487200@www.porciagymnasium.at
SUMMARY:Pädagogische Konferenz
DESCRIPTION:
URL:https://www.porciagymnasium.at/termin/paedagogische-konferenz-8/
CATEGORIES:Lehrer
END:VEVENT
BEGIN:VEVENT
DTSTART;TZID=Europe/Vienna:20240524T080000
DTEND;TZID=Europe/Vienna:20240524T170000
DTSTAMP:20260420T222114
CREATED:20231116T102350Z
LAST-MODIFIED:20231116T102350Z
UID:10908-1716537600-1716570000@www.porciagymnasium.at
SUMMARY:Abgabe der Aufgabenstellung für die Kompensationsprüfungen in den nichtstandardisierten Fächern
DESCRIPTION:
URL:https://www.porciagymnasium.at/termin/abgabe-der-aufgabenstellung-fuer-die-kompensationspruefungen-in-den-nichtstandardisierten-faechern-2/
CATEGORIES:Reifeprüfung
END:VEVENT
BEGIN:VEVENT
DTSTART;TZID=Europe/Vienna:20240525T080000
DTEND;TZID=Europe/Vienna:20240529T170000
DTSTAMP:20260420T222114
CREATED:20240130T081327Z
LAST-MODIFIED:20240130T081327Z
UID:11336-1716624000-1717002000@www.porciagymnasium.at
SUMMARY:4.AR  -  Wienreise
DESCRIPTION:
URL:https://www.porciagymnasium.at/termin/4-ar-wienreise/
LOCATION:Wien
END:VEVENT
BEGIN:VEVENT
DTSTART;TZID=Europe/Vienna:20240528T131500
DTEND;TZID=Europe/Vienna:20240528T150000
DTSTAMP:20260420T222114
CREATED:20240521T090006Z
LAST-MODIFIED:20240521T090006Z
UID:11740-1716902100-1716908400@www.porciagymnasium.at
SUMMARY:7. Klassen WPF Recht - Notariat Dr. E. Bäck
DESCRIPTION:
URL:https://www.porciagymnasium.at/termin/7-klassen-wpf-recht-notariat-dr-e-baeck/
END:VEVENT
BEGIN:VEVENT
DTSTART;TZID=Europe/Vienna:20240530T080000
DTEND;TZID=Europe/Vienna:20240530T170000
DTSTAMP:20260420T222114
CREATED:20230814T071546Z
LAST-MODIFIED:20230814T071546Z
UID:10047-1717056000-1717088400@www.porciagymnasium.at
SUMMARY:Fronleichnam
DESCRIPTION:
URL:https://www.porciagymnasium.at/termin/fronleichnam-6/
CATEGORIES:FREI
END:VEVENT
BEGIN:VEVENT
DTSTART;TZID=Europe/Vienna:20240531T080000
DTEND;TZID=Europe/Vienna:20240531T170000
DTSTAMP:20260420T222114
CREATED:20230814T071616Z
LAST-MODIFIED:20230814T071616Z
UID:10049-1717142400-1717174800@www.porciagymnasium.at
SUMMARY:SGA-frei
DESCRIPTION:
URL:https://www.porciagymnasium.at/termin/sga-frei-27/
CATEGORIES:FREI
END:VEVENT
END:VCALENDAR