BEGIN:VCALENDAR
VERSION:2.0
PRODID:-//BG|BRG Porcia - ECPv6.15.20//NONSGML v1.0//EN
CALSCALE:GREGORIAN
METHOD:PUBLISH
X-WR-CALNAME:BG|BRG Porcia
X-ORIGINAL-URL:https://www.porciagymnasium.at
X-WR-CALDESC:Veranstaltungen für BG|BRG Porcia
REFRESH-INTERVAL;VALUE=DURATION:PT1H
X-Robots-Tag:noindex
X-PUBLISHED-TTL:PT1H
BEGIN:VTIMEZONE
TZID:Europe/Vienna
BEGIN:DAYLIGHT
TZOFFSETFROM:+0100
TZOFFSETTO:+0200
TZNAME:CEST
DTSTART:20230326T010000
END:DAYLIGHT
BEGIN:STANDARD
TZOFFSETFROM:+0200
TZOFFSETTO:+0100
TZNAME:CET
DTSTART:20231029T010000
END:STANDARD
BEGIN:DAYLIGHT
TZOFFSETFROM:+0100
TZOFFSETTO:+0200
TZNAME:CEST
DTSTART:20240331T010000
END:DAYLIGHT
BEGIN:STANDARD
TZOFFSETFROM:+0200
TZOFFSETTO:+0100
TZNAME:CET
DTSTART:20241027T010000
END:STANDARD
BEGIN:DAYLIGHT
TZOFFSETFROM:+0100
TZOFFSETTO:+0200
TZNAME:CEST
DTSTART:20250330T010000
END:DAYLIGHT
BEGIN:STANDARD
TZOFFSETFROM:+0200
TZOFFSETTO:+0100
TZNAME:CET
DTSTART:20251026T010000
END:STANDARD
END:VTIMEZONE
BEGIN:VEVENT
DTSTART;TZID=Europe/Vienna:20240323T080000
DTEND;TZID=Europe/Vienna:20240401T170000
DTSTAMP:20260420T235528
CREATED:20230814T070801Z
LAST-MODIFIED:20230814T070801Z
UID:10037-1711180800-1711990800@www.porciagymnasium.at
SUMMARY:Osterferien
DESCRIPTION:
URL:https://www.porciagymnasium.at/termin/osterferien-7/
CATEGORIES:FREI
END:VEVENT
BEGIN:VEVENT
DTSTART;TZID=Europe/Vienna:20240402T074500
DTEND;TZID=Europe/Vienna:20240402T131500
DTSTAMP:20260420T235528
CREATED:20240221T071728Z
LAST-MODIFIED:20240221T071728Z
UID:11432-1712043900-1712063700@www.porciagymnasium.at
SUMMARY:Workshops 2. Klassen "Folge deinen Begabungen ..."
DESCRIPTION:
URL:https://www.porciagymnasium.at/termin/workshops-2-klassen-folge-deinen-begabungen/
END:VEVENT
BEGIN:VEVENT
DTSTART;TZID=Europe/Vienna:20240404T074500
DTEND;TZID=Europe/Vienna:20240404T093000
DTSTAMP:20260420T235528
CREATED:20240226T071810Z
LAST-MODIFIED:20240226T071810Z
UID:11454-1712216700-1712223000@www.porciagymnasium.at
SUMMARY:7.ag/ar/br  &  8.ar  -  Vortrag "Österreichs Außenwirtschaft" (WKO)
DESCRIPTION:
URL:https://www.porciagymnasium.at/termin/7-ag-ar-br-8-ar-vortrag-oesterreichs-aussenwirtschaft-wko/
END:VEVENT
BEGIN:VEVENT
DTSTART;TZID=Europe/Vienna:20240404T183000
DTEND;TZID=Europe/Vienna:20240404T200000
DTSTAMP:20260420T235528
CREATED:20240214T085301Z
LAST-MODIFIED:20240221T071627Z
UID:11392-1712255400-1712260800@www.porciagymnasium.at
SUMMARY:Elterninformationsabend 2. Klassen
DESCRIPTION:
URL:https://www.porciagymnasium.at/termin/elterninformationsabend-2-klassen/
CATEGORIES:WICHTIG
END:VEVENT
BEGIN:VEVENT
DTSTART;TZID=Europe/Vienna:20240408T080000
DTEND;TZID=Europe/Vienna:20240419T170000
DTSTAMP:20260420T235528
CREATED:20231025T093504Z
LAST-MODIFIED:20231025T093504Z
UID:10649-1712563200-1713546000@www.porciagymnasium.at
SUMMARY:7.AG  -  Sprachreise
DESCRIPTION:
URL:https://www.porciagymnasium.at/termin/7-ag-sprachreise/
LOCATION:England / Irland
END:VEVENT
BEGIN:VEVENT
DTSTART;TZID=Europe/Vienna:20240408T120000
DTEND;TZID=Europe/Vienna:20240408T120000
DTSTAMP:20260420T235528
CREATED:20240219T120247Z
LAST-MODIFIED:20240219T120247Z
UID:11421-1712577600-1712577600@www.porciagymnasium.at
SUMMARY:Abgabe der korr. VWA im Sekretariat
DESCRIPTION:
URL:https://www.porciagymnasium.at/termin/abgabe-der-korr-vwa-im-sekretariat/
CATEGORIES:Lehrer
END:VEVENT
BEGIN:VEVENT
DTSTART;TZID=Europe/Vienna:20240410T074500
DTEND;TZID=Europe/Vienna:20240410T131500
DTSTAMP:20260420T235528
CREATED:20240408T084642Z
LAST-MODIFIED:20240408T084642Z
UID:11598-1712735100-1712754900@www.porciagymnasium.at
SUMMARY:Science4Girls
DESCRIPTION:
URL:https://www.porciagymnasium.at/termin/science4girls/
END:VEVENT
BEGIN:VEVENT
DTSTART;TZID=Europe/Vienna:20240412T160000
DTEND;TZID=Europe/Vienna:20240412T160000
DTSTAMP:20260420T235528
CREATED:20231115T080357Z
LAST-MODIFIED:20231115T090220Z
UID:10868-1712937600-1712937600@www.porciagymnasium.at
SUMMARY:Notenschluss 8. Klassen
DESCRIPTION:
URL:https://www.porciagymnasium.at/termin/notenschluss-8-klassen-2/
CATEGORIES:Lehrer
END:VEVENT
BEGIN:VEVENT
DTSTART;TZID=Europe/Vienna:20240415T080000
DTEND;TZID=Europe/Vienna:20240419T170000
DTSTAMP:20260420T235528
CREATED:20231116T095819Z
LAST-MODIFIED:20231116T095819Z
UID:10885-1713168000-1713546000@www.porciagymnasium.at
SUMMARY:VWA Prädentationen
DESCRIPTION:
URL:https://www.porciagymnasium.at/termin/vwa-praedentationen/
CATEGORIES:Reifeprüfung
END:VEVENT
BEGIN:VEVENT
DTSTART;TZID=Europe/Vienna:20240416T131500
DTEND;TZID=Europe/Vienna:20240416T141500
DTSTAMP:20260420T235528
CREATED:20240402T091216Z
LAST-MODIFIED:20240402T091216Z
UID:11569-1713273300-1713276900@www.porciagymnasium.at
SUMMARY:7.A/B - WPR  Recht - Vortrag Herrn RA Dr. Franz Oberlercher
DESCRIPTION:
URL:https://www.porciagymnasium.at/termin/7-a-b-wpr-recht-vortrag-herrn-ra-dr-franz-oberlercher/
END:VEVENT
BEGIN:VEVENT
DTSTART;TZID=Europe/Vienna:20240417T133000
DTEND;TZID=Europe/Vienna:20240417T140500
DTSTAMP:20260420T235528
CREATED:20240214T085527Z
LAST-MODIFIED:20240416T072855Z
UID:11394-1713360600-1713362700@www.porciagymnasium.at
SUMMARY:Konferenz 8. Klassen
DESCRIPTION:
URL:https://www.porciagymnasium.at/termin/konferenz-8-klassen/
CATEGORIES:Lehrer
END:VEVENT
BEGIN:VEVENT
DTSTART;TZID=Europe/Vienna:20240419T090000
DTEND;TZID=Europe/Vienna:20240419T120000
DTSTAMP:20260420T235528
CREATED:20240409T070411Z
LAST-MODIFIED:20240409T070411Z
UID:11604-1713517200-1713528000@www.porciagymnasium.at
SUMMARY:Schachmeister Mag. Guido Kaspret besucht unsere Schule
DESCRIPTION:
URL:https://www.porciagymnasium.at/termin/schachmeister-mag-guido-kaspret-besucht-unsere-schule/
END:VEVENT
BEGIN:VEVENT
DTSTART;TZID=Europe/Vienna:20240422T080000
DTEND;TZID=Europe/Vienna:20240423T170000
DTSTAMP:20260420T235528
CREATED:20231116T095936Z
LAST-MODIFIED:20231116T095936Z
UID:10887-1713772800-1713891600@www.porciagymnasium.at
SUMMARY:Wiederholungsprüfungen (bei einem "Nicht genügend")
DESCRIPTION:
URL:https://www.porciagymnasium.at/termin/wiederholungspruefungen-bei-einem-nicht-genuegend-3/
CATEGORIES:WICHTIG
END:VEVENT
BEGIN:VEVENT
DTSTART;TZID=Europe/Vienna:20240422T140000
DTEND;TZID=Europe/Vienna:20240422T180000
DTSTAMP:20260420T235528
CREATED:20240214T085723Z
LAST-MODIFIED:20240214T085723Z
UID:11396-1713794400-1713808800@www.porciagymnasium.at
SUMMARY:Konferenz Elternsprechtag
DESCRIPTION:
URL:https://www.porciagymnasium.at/termin/konferenz-elternsprechtag-8/
CATEGORIES:Lehrer
END:VEVENT
BEGIN:VEVENT
DTSTART;TZID=Europe/Vienna:20240423T074500
DTEND;TZID=Europe/Vienna:20240424T112500
DTSTAMP:20260420T235528
CREATED:20240408T085428Z
LAST-MODIFIED:20240408T085428Z
UID:11600-1713858300-1713957900@www.porciagymnasium.at
SUMMARY:4-te Klassen  -  Workshops AIDS
DESCRIPTION:
URL:https://www.porciagymnasium.at/termin/4-te-klassen-workshops-aids/
END:VEVENT
BEGIN:VEVENT
DTSTART;TZID=Europe/Vienna:20240424T083000
DTEND;TZID=Europe/Vienna:20240424T092500
DTSTAMP:20260420T235528
CREATED:20231005T065643Z
LAST-MODIFIED:20231005T065643Z
UID:10387-1713947400-1713950700@www.porciagymnasium.at
SUMMARY:3. & 4. Klassen  -  Englisches Theater - "The little prince"
DESCRIPTION:
URL:https://www.porciagymnasium.at/termin/3-4-klassen-englisches-theater-the-little-prince/
LOCATION:Stadtsaal Spittal
END:VEVENT
BEGIN:VEVENT
DTSTART;TZID=Europe/Vienna:20240425T074500
DTEND;TZID=Europe/Vienna:20240425T131500
DTSTAMP:20260420T235528
CREATED:20240306T103459Z
LAST-MODIFIED:20240306T103459Z
UID:11487-1714031100-1714050900@www.porciagymnasium.at
SUMMARY:1. Klassen - Konzert "Jazz for Kids"
DESCRIPTION:
URL:https://www.porciagymnasium.at/termin/1-klassen-konzert-jazz-for-kids/
LOCATION:Ossiach
END:VEVENT
BEGIN:VEVENT
DTSTART;TZID=Europe/Vienna:20240426T080000
DTEND;TZID=Europe/Vienna:20240426T170000
DTSTAMP:20260420T235528
CREATED:20231116T100030Z
LAST-MODIFIED:20231116T100030Z
UID:10889-1714118400-1714150800@www.porciagymnasium.at
SUMMARY:8. Klassen - letzter Schultag
DESCRIPTION:
URL:https://www.porciagymnasium.at/termin/8-klassen-letzter-schultag/
CATEGORIES:Reifeprüfung
END:VEVENT
BEGIN:VEVENT
DTSTART;TZID=Europe/Vienna:20240426T100000
DTEND;TZID=Europe/Vienna:20240426T130000
DTSTAMP:20260420T235528
CREATED:20240418T084450Z
LAST-MODIFIED:20240418T084606Z
UID:11633-1714125600-1714136400@www.porciagymnasium.at
SUMMARY:Maturanten Gottesdienst & Zeugnisausgabe
DESCRIPTION:
URL:https://www.porciagymnasium.at/termin/maturanten-gottesdienst-zeugnisausgabe/
LOCATION:evang. Gemeindezentrum
END:VEVENT
BEGIN:VEVENT
DTSTART;TZID=Europe/Vienna:20240429T074500
DTEND;TZID=Europe/Vienna:20240430T112500
DTSTAMP:20260420T235528
CREATED:20240408T085521Z
LAST-MODIFIED:20240408T085521Z
UID:11602-1714376700-1714476300@www.porciagymnasium.at
SUMMARY:4-te Klassen  -  Workshops AIDS
DESCRIPTION:
URL:https://www.porciagymnasium.at/termin/4-te-klassen-workshops-aids-2/
END:VEVENT
BEGIN:VEVENT
DTSTART;TZID=Europe/Vienna:20240429T163000
DTEND;TZID=Europe/Vienna:20240429T190000
DTSTAMP:20260420T235528
CREATED:20240214T085929Z
LAST-MODIFIED:20240214T085929Z
UID:11398-1714408200-1714417200@www.porciagymnasium.at
SUMMARY:Elternsprechtag
DESCRIPTION:
URL:https://www.porciagymnasium.at/termin/elternsprechtag-5/
CATEGORIES:WICHTIG
END:VEVENT
END:VCALENDAR