BEGIN:VCALENDAR
VERSION:2.0
PRODID:-//BG|BRG Porcia - ECPv6.15.20//NONSGML v1.0//EN
CALSCALE:GREGORIAN
METHOD:PUBLISH
X-WR-CALNAME:BG|BRG Porcia
X-ORIGINAL-URL:https://www.porciagymnasium.at
X-WR-CALDESC:Veranstaltungen für BG|BRG Porcia
REFRESH-INTERVAL;VALUE=DURATION:PT1H
X-Robots-Tag:noindex
X-PUBLISHED-TTL:PT1H
BEGIN:VTIMEZONE
TZID:Europe/Vienna
BEGIN:DAYLIGHT
TZOFFSETFROM:+0100
TZOFFSETTO:+0200
TZNAME:CEST
DTSTART:20220327T010000
END:DAYLIGHT
BEGIN:STANDARD
TZOFFSETFROM:+0200
TZOFFSETTO:+0100
TZNAME:CET
DTSTART:20221030T010000
END:STANDARD
BEGIN:DAYLIGHT
TZOFFSETFROM:+0100
TZOFFSETTO:+0200
TZNAME:CEST
DTSTART:20230326T010000
END:DAYLIGHT
BEGIN:STANDARD
TZOFFSETFROM:+0200
TZOFFSETTO:+0100
TZNAME:CET
DTSTART:20231029T010000
END:STANDARD
BEGIN:DAYLIGHT
TZOFFSETFROM:+0100
TZOFFSETTO:+0200
TZNAME:CEST
DTSTART:20240331T010000
END:DAYLIGHT
BEGIN:STANDARD
TZOFFSETFROM:+0200
TZOFFSETTO:+0100
TZNAME:CET
DTSTART:20241027T010000
END:STANDARD
END:VTIMEZONE
BEGIN:VEVENT
DTSTART;TZID=Europe/Vienna:20230401T080000
DTEND;TZID=Europe/Vienna:20230410T170000
DTSTAMP:20260422T100655
CREATED:20220809T100214Z
LAST-MODIFIED:20220809T100214Z
UID:7053-1680336000-1681146000@www.porciagymnasium.at
SUMMARY:Osterferien
DESCRIPTION:
URL:https://www.porciagymnasium.at/termin/osterferien-5/
CATEGORIES:FREI
END:VEVENT
BEGIN:VEVENT
DTSTART;TZID=Europe/Vienna:20230414T140000
DTEND;TZID=Europe/Vienna:20230414T140000
DTSTAMP:20260422T100655
CREATED:20221124T151346Z
LAST-MODIFIED:20221124T151346Z
UID:8594-1681480800-1681480800@www.porciagymnasium.at
SUMMARY:Notenschluss 8. Klasse
DESCRIPTION:
URL:https://www.porciagymnasium.at/termin/notenschluss-8-klasse/
CATEGORIES:Reifeprüfung
END:VEVENT
BEGIN:VEVENT
DTSTART;TZID=Europe/Vienna:20230417T080000
DTEND;TZID=Europe/Vienna:20230419T170000
DTSTAMP:20260422T100655
CREATED:20221124T151507Z
LAST-MODIFIED:20221124T151507Z
UID:8596-1681718400-1681923600@www.porciagymnasium.at
SUMMARY:VWA Präsentationen BRG
DESCRIPTION:
URL:https://www.porciagymnasium.at/termin/vwa-praesentationen-brg/
CATEGORIES:Reifeprüfung
END:VEVENT
BEGIN:VEVENT
DTSTART;TZID=Europe/Vienna:20230419T080000
DTEND;TZID=Europe/Vienna:20230420T170000
DTSTAMP:20260422T100655
CREATED:20221124T151550Z
LAST-MODIFIED:20221124T151550Z
UID:8598-1681891200-1682010000@www.porciagymnasium.at
SUMMARY:VWA Präsentationen BG
DESCRIPTION:
URL:https://www.porciagymnasium.at/termin/vwa-praesentationen-bg/
CATEGORIES:Reifeprüfung
END:VEVENT
BEGIN:VEVENT
DTSTART;TZID=Europe/Vienna:20230419T140000
DTEND;TZID=Europe/Vienna:20230419T150000
DTSTAMP:20260422T100655
CREATED:20221124T151656Z
LAST-MODIFIED:20221124T151656Z
UID:8600-1681912800-1681916400@www.porciagymnasium.at
SUMMARY:Notenkonferenz 8. Klassen
DESCRIPTION:
URL:https://www.porciagymnasium.at/termin/notenkonferenz-8-klassen-2/
CATEGORIES:Reifeprüfung
END:VEVENT
BEGIN:VEVENT
DTSTART;TZID=Europe/Vienna:20230423T080000
DTEND;TZID=Europe/Vienna:20230429T170000
DTSTAMP:20260422T100655
CREATED:20230222T082213Z
LAST-MODIFIED:20230422T090416Z
UID:9473-1682236800-1682787600@www.porciagymnasium.at
SUMMARY:7.Klassen - Sprachreise Rom
DESCRIPTION:
URL:https://www.porciagymnasium.at/termin/7-klassen-sprachreise-rom/
LOCATION:ROM
END:VEVENT
BEGIN:VEVENT
DTSTART;TZID=Europe/Vienna:20230424T080000
DTEND;TZID=Europe/Vienna:20230425T170000
DTSTAMP:20260422T100655
CREATED:20221124T151758Z
LAST-MODIFIED:20221124T152156Z
UID:8602-1682323200-1682442000@www.porciagymnasium.at
SUMMARY:Wiederholungsprüfung 8. Kl. (bei einem NG)
DESCRIPTION:
URL:https://www.porciagymnasium.at/termin/wiederholungspruefung-8-kl-bei-einem-ng/
CATEGORIES:Reifeprüfung
END:VEVENT
BEGIN:VEVENT
DTSTART;TZID=Europe/Vienna:20230426T080000
DTEND;TZID=Europe/Vienna:20230426T120000
DTSTAMP:20260422T100655
CREATED:20230417T055138Z
LAST-MODIFIED:20230417T055138Z
UID:9651-1682496000-1682510400@www.porciagymnasium.at
SUMMARY:Buffett  -  4c
DESCRIPTION:
URL:https://www.porciagymnasium.at/termin/buffett-4c/
LOCATION:Haupt-Eingangs-Bereich Schulgebäude
END:VEVENT
BEGIN:VEVENT
DTSTART;TZID=Europe/Vienna:20230427T154500
DTEND;TZID=Europe/Vienna:20230427T190000
DTSTAMP:20260422T100655
CREATED:20230217T152040Z
LAST-MODIFIED:20230420T173434Z
UID:9423-1682610300-1682622000@www.porciagymnasium.at
SUMMARY:Konferenz Elternsprechtag
DESCRIPTION:
URL:https://www.porciagymnasium.at/termin/konferenz-elternsprechtag-6/
CATEGORIES:Lehrer
END:VEVENT
BEGIN:VEVENT
DTSTART;TZID=Europe/Vienna:20230428T090000
DTEND;TZID=Europe/Vienna:20230428T131500
DTSTAMP:20260422T100655
CREATED:20230322T085541Z
LAST-MODIFIED:20230422T090307Z
UID:9595-1682672400-1682687700@www.porciagymnasium.at
SUMMARY:Maturanten Gottesdienst / Zeugnisverteilung
DESCRIPTION:
URL:https://www.porciagymnasium.at/termin/maturanten-gottesdienst-zeugnisverteilung/
LOCATION:evang. Gemeindezentrum
END:VEVENT
BEGIN:VEVENT
DTSTART;TZID=Europe/Vienna:20230428T120000
DTEND;TZID=Europe/Vienna:20230428T120000
DTSTAMP:20260422T100655
CREATED:20221124T151859Z
LAST-MODIFIED:20221124T152252Z
UID:8604-1682683200-1682683200@www.porciagymnasium.at
SUMMARY:Letzter Schultag 8. Klassen
DESCRIPTION:
URL:https://www.porciagymnasium.at/termin/letzter-schultag-8-klassen-3/
CATEGORIES:Reifeprüfung
END:VEVENT
END:VCALENDAR