BEGIN:VCALENDAR
VERSION:2.0
PRODID:-//BG|BRG Porcia - ECPv6.15.20//NONSGML v1.0//EN
CALSCALE:GREGORIAN
METHOD:PUBLISH
X-WR-CALNAME:BG|BRG Porcia
X-ORIGINAL-URL:https://www.porciagymnasium.at
X-WR-CALDESC:Veranstaltungen für BG|BRG Porcia
REFRESH-INTERVAL;VALUE=DURATION:PT1H
X-Robots-Tag:noindex
X-PUBLISHED-TTL:PT1H
BEGIN:VTIMEZONE
TZID:Europe/Vienna
BEGIN:DAYLIGHT
TZOFFSETFROM:+0100
TZOFFSETTO:+0200
TZNAME:CEST
DTSTART:20220327T010000
END:DAYLIGHT
BEGIN:STANDARD
TZOFFSETFROM:+0200
TZOFFSETTO:+0100
TZNAME:CET
DTSTART:20221030T010000
END:STANDARD
BEGIN:DAYLIGHT
TZOFFSETFROM:+0100
TZOFFSETTO:+0200
TZNAME:CEST
DTSTART:20230326T010000
END:DAYLIGHT
BEGIN:STANDARD
TZOFFSETFROM:+0200
TZOFFSETTO:+0100
TZNAME:CET
DTSTART:20231029T010000
END:STANDARD
BEGIN:DAYLIGHT
TZOFFSETFROM:+0100
TZOFFSETTO:+0200
TZNAME:CEST
DTSTART:20240331T010000
END:DAYLIGHT
BEGIN:STANDARD
TZOFFSETFROM:+0200
TZOFFSETTO:+0100
TZNAME:CET
DTSTART:20241027T010000
END:STANDARD
END:VTIMEZONE
BEGIN:VTIMEZONE
TZID:Europe/Berlin
BEGIN:DAYLIGHT
TZOFFSETFROM:+0100
TZOFFSETTO:+0200
TZNAME:CEST
DTSTART:20220327T010000
END:DAYLIGHT
BEGIN:STANDARD
TZOFFSETFROM:+0200
TZOFFSETTO:+0100
TZNAME:CET
DTSTART:20221030T010000
END:STANDARD
BEGIN:DAYLIGHT
TZOFFSETFROM:+0100
TZOFFSETTO:+0200
TZNAME:CEST
DTSTART:20230326T010000
END:DAYLIGHT
BEGIN:STANDARD
TZOFFSETFROM:+0200
TZOFFSETTO:+0100
TZNAME:CET
DTSTART:20231029T010000
END:STANDARD
BEGIN:DAYLIGHT
TZOFFSETFROM:+0100
TZOFFSETTO:+0200
TZNAME:CEST
DTSTART:20240331T010000
END:DAYLIGHT
BEGIN:STANDARD
TZOFFSETFROM:+0200
TZOFFSETTO:+0100
TZNAME:CET
DTSTART:20241027T010000
END:STANDARD
END:VTIMEZONE
BEGIN:VEVENT
DTSTART;TZID=Europe/Vienna:20230202T071500
DTEND;TZID=Europe/Vienna:20230202T163500
DTSTAMP:20260422T065811
CREATED:20230124T070635Z
LAST-MODIFIED:20230124T070635Z
UID:9324-1675322100-1675355700@www.porciagymnasium.at
SUMMARY:8.A/B - WPF Recht - Exkursion Klagenfurt Landtag\, Landesregierung
DESCRIPTION:
URL:https://www.porciagymnasium.at/termin/8-a-b-wpf-recht-exkursion-klagenfurt-landtag-landesregierung/
LOCATION:Klagenfurt
END:VEVENT
BEGIN:VEVENT
DTSTART;TZID=Europe/Vienna:20230202T074500
DTEND;TZID=Europe/Vienna:20230203T131500
DTSTAMP:20260422T065811
CREATED:20230119T100420Z
LAST-MODIFIED:20230119T100420Z
UID:9317-1675323900-1675430100@www.porciagymnasium.at
SUMMARY:1 C  -  Workshop "Afrika" mit Paulos Worku
DESCRIPTION:
URL:https://www.porciagymnasium.at/termin/1-c-workshop-afrika-mit-paulos-worku/
END:VEVENT
BEGIN:VEVENT
DTSTART;TZID=Europe/Vienna:20230202T090000
DTEND;TZID=Europe/Vienna:20230202T170000
DTSTAMP:20260422T065811
CREATED:20221020T094214Z
LAST-MODIFIED:20221101T160717Z
UID:7322-1675328400-1675357200@www.porciagymnasium.at
SUMMARY:Landtagssitzungen - 8A/B (WPF)
DESCRIPTION:Landta
URL:https://www.porciagymnasium.at/termin/landtagssitzungen-8a-b-wpf/
END:VEVENT
BEGIN:VEVENT
DTSTART;TZID=Europe/Vienna:20230207T080000
DTEND;TZID=Europe/Vienna:20230207T140000
DTSTAMP:20260422T065811
CREATED:20230105T095717Z
LAST-MODIFIED:20230105T095717Z
UID:9206-1675756800-1675778400@www.porciagymnasium.at
SUMMARY:Bezirksmeisterschaften SKI
DESCRIPTION:
URL:https://www.porciagymnasium.at/termin/bezirksmeisterschaften-ski/
END:VEVENT
BEGIN:VEVENT
DTSTART;TZID=Europe/Vienna:20230207T120000
DTEND;TZID=Europe/Vienna:20230207T120000
DTSTAMP:20260422T065811
CREATED:20220914T090336Z
LAST-MODIFIED:20221006T171752Z
UID:7178-1675771200-1675771200@www.porciagymnasium.at
SUMMARY:Notenschluss
DESCRIPTION:
URL:https://www.porciagymnasium.at/termin/notenschluss-6/
END:VEVENT
BEGIN:VEVENT
DTSTART;TZID=Europe/Vienna:20230208T163000
DTEND;TZID=Europe/Vienna:20230208T190000
DTSTAMP:20260422T065811
CREATED:20220914T090415Z
LAST-MODIFIED:20230130T094022Z
UID:7180-1675873800-1675882800@www.porciagymnasium.at
SUMMARY:Allgemeine Konferenz / Notenkonferenz
DESCRIPTION:
URL:https://www.porciagymnasium.at/termin/notenkonferenz-3/
CATEGORIES:Lehrer
END:VEVENT
BEGIN:VEVENT
DTSTART;VALUE=DATE:20230210
DTEND;VALUE=DATE:20230211
DTSTAMP:20260422T065811
CREATED:20220918T073035Z
LAST-MODIFIED:20221101T170130Z
UID:8120-1675987200-1676073599@www.porciagymnasium.at
SUMMARY:Semesternachrichten\, KV-Tag der 1. Klassen
DESCRIPTION:
URL:https://www.porciagymnasium.at/termin/semesternachrichten-kv-tag-der-1-klassen-3/
END:VEVENT
BEGIN:VEVENT
DTSTART;TZID=Europe/Vienna:20230210T080000
DTEND;TZID=Europe/Vienna:20230210T170000
DTSTAMP:20260422T065811
CREATED:20220809T095934Z
LAST-MODIFIED:20220809T095934Z
UID:7051-1676016000-1676048400@www.porciagymnasium.at
SUMMARY:Schulnachricht
DESCRIPTION:
URL:https://www.porciagymnasium.at/termin/schulnachricht/
CATEGORIES:WICHTIG
END:VEVENT
BEGIN:VEVENT
DTSTART;TZID=Europe/Vienna:20230213T080000
DTEND;TZID=Europe/Vienna:20230218T170000
DTSTAMP:20260422T065811
CREATED:20220809T095814Z
LAST-MODIFIED:20220809T095814Z
UID:7049-1676275200-1676739600@www.porciagymnasium.at
SUMMARY:Semesterferien
DESCRIPTION:
URL:https://www.porciagymnasium.at/termin/semesterferien-5/
CATEGORIES:FREI
END:VEVENT
BEGIN:VEVENT
DTSTART;TZID=Europe/Vienna:20230220T120000
DTEND;TZID=Europe/Vienna:20230220T120000
DTSTAMP:20260422T065811
CREATED:20221124T151001Z
LAST-MODIFIED:20221124T151001Z
UID:8590-1676894400-1676894400@www.porciagymnasium.at
SUMMARY:Abgabe der Aufgabenstellungen für die BIU\, DG\, PH\, INF Reifeprüfung
DESCRIPTION:
URL:https://www.porciagymnasium.at/termin/abgabe-der-aufgabenstellungen-fuer-die-biu-dg-ph-inf-reifepruefung/
CATEGORIES:Reifeprüfung
END:VEVENT
BEGIN:VEVENT
DTSTART;TZID=Europe/Vienna:20230221T173000
DTEND;TZID=Europe/Vienna:20230221T193000
DTSTAMP:20260422T065811
CREATED:20230222T101840Z
LAST-MODIFIED:20230222T101840Z
UID:9475-1677000600-1677007800@www.porciagymnasium.at
SUMMARY:Eltern & Jugend Workshop für angemeldete der 3. Klassen
DESCRIPTION:
URL:https://www.porciagymnasium.at/termin/eltern-jugend-workshop-fuer-angemeldete-der-3-klassen/
END:VEVENT
BEGIN:VEVENT
DTSTART;TZID=Europe/Vienna:20230223T173000
DTEND;TZID=Europe/Vienna:20230223T193000
DTSTAMP:20260422T065811
CREATED:20230222T101921Z
LAST-MODIFIED:20230222T101921Z
UID:9477-1677173400-1677180600@www.porciagymnasium.at
SUMMARY:Eltern & Jugend Workshop für Angemeldete der 3. Klassen
DESCRIPTION:
URL:https://www.porciagymnasium.at/termin/eltern-jugend-workshop-fuer-angemeldete-der-3-klassen-2/
END:VEVENT
BEGIN:VEVENT
DTSTART;TZID=Europe/Vienna:20230223T173000
DTEND;TZID=Europe/Vienna:20230223T193000
DTSTAMP:20260422T065811
CREATED:20230222T102000Z
LAST-MODIFIED:20230222T102000Z
UID:9479-1677173400-1677180600@www.porciagymnasium.at
SUMMARY:Eltern & Jugend Workshop für Angemeldete der 3. Klassen
DESCRIPTION:
URL:https://www.porciagymnasium.at/termin/eltern-jugend-workshop-fuer-angemeldete-der-3-klassen-3/
END:VEVENT
BEGIN:VEVENT
DTSTART;TZID=Europe/Vienna:20230223T183000
DTEND;TZID=Europe/Vienna:20230223T183000
DTSTAMP:20260422T065811
CREATED:20230220T064331Z
LAST-MODIFIED:20230220T093302Z
UID:9452-1677177000-1677177000@www.porciagymnasium.at
SUMMARY:6.A/B   -   Elternabend USA
DESCRIPTION:
URL:https://www.porciagymnasium.at/termin/6-a-b-elternabend-usa-2/
END:VEVENT
BEGIN:VEVENT
DTSTART;TZID=Europe/Vienna:20230224T120000
DTEND;TZID=Europe/Vienna:20230224T120000
DTSTAMP:20260422T065811
CREATED:20221124T151242Z
LAST-MODIFIED:20221124T151242Z
UID:8592-1677240000-1677240000@www.porciagymnasium.at
SUMMARY:Abgabe der VWA
DESCRIPTION:
URL:https://www.porciagymnasium.at/termin/abgabe-der-vwa-2/
CATEGORIES:Reifeprüfung
END:VEVENT
BEGIN:VEVENT
DTSTART;VALUE=DATE:20230226
DTEND;VALUE=DATE:20230304
DTSTAMP:20260422T065811
CREATED:20221230T094907Z
LAST-MODIFIED:20221230T094907Z
UID:9161-1677369600-1677887999@www.porciagymnasium.at
SUMMARY:Kulturreise Rom\, 6A
DESCRIPTION:
URL:https://www.porciagymnasium.at/termin/kulturreise-rom-6a/
END:VEVENT
END:VCALENDAR