BEGIN:VCALENDAR
VERSION:2.0
PRODID:-//BG|BRG Porcia - ECPv6.15.20//NONSGML v1.0//EN
CALSCALE:GREGORIAN
METHOD:PUBLISH
X-WR-CALNAME:BG|BRG Porcia
X-ORIGINAL-URL:https://www.porciagymnasium.at
X-WR-CALDESC:Veranstaltungen für BG|BRG Porcia
REFRESH-INTERVAL;VALUE=DURATION:PT1H
X-Robots-Tag:noindex
X-PUBLISHED-TTL:PT1H
BEGIN:VTIMEZONE
TZID:Europe/Berlin
BEGIN:DAYLIGHT
TZOFFSETFROM:+0100
TZOFFSETTO:+0200
TZNAME:CEST
DTSTART:20190331T010000
END:DAYLIGHT
BEGIN:STANDARD
TZOFFSETFROM:+0200
TZOFFSETTO:+0100
TZNAME:CET
DTSTART:20191027T010000
END:STANDARD
BEGIN:DAYLIGHT
TZOFFSETFROM:+0100
TZOFFSETTO:+0200
TZNAME:CEST
DTSTART:20200329T010000
END:DAYLIGHT
BEGIN:STANDARD
TZOFFSETFROM:+0200
TZOFFSETTO:+0100
TZNAME:CET
DTSTART:20201025T010000
END:STANDARD
BEGIN:DAYLIGHT
TZOFFSETFROM:+0100
TZOFFSETTO:+0200
TZNAME:CEST
DTSTART:20210328T010000
END:DAYLIGHT
BEGIN:STANDARD
TZOFFSETFROM:+0200
TZOFFSETTO:+0100
TZNAME:CET
DTSTART:20211031T010000
END:STANDARD
END:VTIMEZONE
BEGIN:VTIMEZONE
TZID:Europe/Vienna
BEGIN:DAYLIGHT
TZOFFSETFROM:+0100
TZOFFSETTO:+0200
TZNAME:CEST
DTSTART:20190331T010000
END:DAYLIGHT
BEGIN:STANDARD
TZOFFSETFROM:+0200
TZOFFSETTO:+0100
TZNAME:CET
DTSTART:20191027T010000
END:STANDARD
BEGIN:DAYLIGHT
TZOFFSETFROM:+0100
TZOFFSETTO:+0200
TZNAME:CEST
DTSTART:20200329T010000
END:DAYLIGHT
BEGIN:STANDARD
TZOFFSETFROM:+0200
TZOFFSETTO:+0100
TZNAME:CET
DTSTART:20201025T010000
END:STANDARD
BEGIN:DAYLIGHT
TZOFFSETFROM:+0100
TZOFFSETTO:+0200
TZNAME:CEST
DTSTART:20210328T010000
END:DAYLIGHT
BEGIN:STANDARD
TZOFFSETFROM:+0200
TZOFFSETTO:+0100
TZNAME:CET
DTSTART:20211031T010000
END:STANDARD
END:VTIMEZONE
BEGIN:VEVENT
DTSTART;VALUE=DATE:20200404
DTEND;VALUE=DATE:20200415
DTSTAMP:20260423T064326
CREATED:20190820T201511Z
LAST-MODIFIED:20190820T201511Z
UID:7941-1585958400-1586908799@www.porciagymnasium.at
SUMMARY:Osterferien
DESCRIPTION:
URL:https://www.porciagymnasium.at/termin/osterferien-2-2/
END:VEVENT
BEGIN:VEVENT
DTSTART;TZID=Europe/Vienna:20200404T080000
DTEND;TZID=Europe/Vienna:20200414T170000
DTSTAMP:20260423T064326
CREATED:20190819T094555Z
LAST-MODIFIED:20190830T084823Z
UID:1945-1585987200-1586883600@www.porciagymnasium.at
SUMMARY:Osterferien
DESCRIPTION:
URL:https://www.porciagymnasium.at/termin/osterferien-2/
CATEGORIES:FREI
END:VEVENT
BEGIN:VEVENT
DTSTART;TZID=Europe/Vienna:20200414T080000
DTEND;TZID=Europe/Vienna:20200430T170000
DTSTAMP:20260423T064326
CREATED:20200416T060955Z
LAST-MODIFIED:20200420T144924Z
UID:3370-1586851200-1588266000@www.porciagymnasium.at
SUMMARY:Vorbereitung RP
DESCRIPTION:Phase intensiver Vorbereitung auf die RP
URL:https://www.porciagymnasium.at/termin/phase-intensiver-vorbereitung-auf-die-rp/
CATEGORIES:Reifeprüfung
END:VEVENT
BEGIN:VEVENT
DTSTART;TZID=Europe/Vienna:20200422T110000
DTEND;TZID=Europe/Vienna:20200422T120000
DTSTAMP:20260423T064326
CREATED:20200420T145616Z
LAST-MODIFIED:20200420T145616Z
UID:3403-1587553200-1587556800@www.porciagymnasium.at
SUMMARY:Videokonferenz KVs
DESCRIPTION:
URL:https://www.porciagymnasium.at/termin/videokonferenz-kvs/
CATEGORIES:Lehrer
END:VEVENT
BEGIN:VEVENT
DTSTART;VALUE=DATE:20200424
DTEND;VALUE=DATE:20200425
DTSTAMP:20260423T064326
CREATED:20200424T173942Z
LAST-MODIFIED:20200424T173942Z
UID:3426-1587686400-1587772799@www.porciagymnasium.at
SUMMARY:Information der 8. Klassen über den derzeitigen Notenstand
DESCRIPTION:
URL:https://www.porciagymnasium.at/termin/information-der-8-klassen-ueber-den-derzeitigen-notenstand/
CATEGORIES:Reifeprüfung
END:VEVENT
BEGIN:VEVENT
DTSTART;VALUE=DATE:20200428
DTEND;VALUE=DATE:20200429
DTSTAMP:20260423T064326
CREATED:20200424T174158Z
LAST-MODIFIED:20200424T174158Z
UID:3428-1588032000-1588118399@www.porciagymnasium.at
SUMMARY:Anmeldung zum Ergänzungsunterricht
DESCRIPTION:
URL:https://www.porciagymnasium.at/termin/anmeldung-zum-ergaenzungsunterricht/
CATEGORIES:Reifeprüfung
END:VEVENT
END:VCALENDAR