BEGIN:VCALENDAR
VERSION:2.0
PRODID:-//BG|BRG Porcia - ECPv6.15.20//NONSGML v1.0//EN
CALSCALE:GREGORIAN
METHOD:PUBLISH
X-WR-CALNAME:BG|BRG Porcia
X-ORIGINAL-URL:https://www.porciagymnasium.at
X-WR-CALDESC:Veranstaltungen für BG|BRG Porcia
REFRESH-INTERVAL;VALUE=DURATION:PT1H
X-Robots-Tag:noindex
X-PUBLISHED-TTL:PT1H
BEGIN:VTIMEZONE
TZID:Europe/Berlin
BEGIN:DAYLIGHT
TZOFFSETFROM:+0100
TZOFFSETTO:+0200
TZNAME:CEST
DTSTART:20180325T010000
END:DAYLIGHT
BEGIN:STANDARD
TZOFFSETFROM:+0200
TZOFFSETTO:+0100
TZNAME:CET
DTSTART:20181028T010000
END:STANDARD
BEGIN:DAYLIGHT
TZOFFSETFROM:+0100
TZOFFSETTO:+0200
TZNAME:CEST
DTSTART:20190331T010000
END:DAYLIGHT
BEGIN:STANDARD
TZOFFSETFROM:+0200
TZOFFSETTO:+0100
TZNAME:CET
DTSTART:20191027T010000
END:STANDARD
BEGIN:DAYLIGHT
TZOFFSETFROM:+0100
TZOFFSETTO:+0200
TZNAME:CEST
DTSTART:20200329T010000
END:DAYLIGHT
BEGIN:STANDARD
TZOFFSETFROM:+0200
TZOFFSETTO:+0100
TZNAME:CET
DTSTART:20201025T010000
END:STANDARD
BEGIN:DAYLIGHT
TZOFFSETFROM:+0100
TZOFFSETTO:+0200
TZNAME:CEST
DTSTART:20210328T010000
END:DAYLIGHT
BEGIN:STANDARD
TZOFFSETFROM:+0200
TZOFFSETTO:+0100
TZNAME:CET
DTSTART:20211031T010000
END:STANDARD
END:VTIMEZONE
BEGIN:VTIMEZONE
TZID:Europe/Vienna
BEGIN:DAYLIGHT
TZOFFSETFROM:+0100
TZOFFSETTO:+0200
TZNAME:CEST
DTSTART:20180325T010000
END:DAYLIGHT
BEGIN:STANDARD
TZOFFSETFROM:+0200
TZOFFSETTO:+0100
TZNAME:CET
DTSTART:20181028T010000
END:STANDARD
BEGIN:DAYLIGHT
TZOFFSETFROM:+0100
TZOFFSETTO:+0200
TZNAME:CEST
DTSTART:20190331T010000
END:DAYLIGHT
BEGIN:STANDARD
TZOFFSETFROM:+0200
TZOFFSETTO:+0100
TZNAME:CET
DTSTART:20191027T010000
END:STANDARD
BEGIN:DAYLIGHT
TZOFFSETFROM:+0100
TZOFFSETTO:+0200
TZNAME:CEST
DTSTART:20200329T010000
END:DAYLIGHT
BEGIN:STANDARD
TZOFFSETFROM:+0200
TZOFFSETTO:+0100
TZNAME:CET
DTSTART:20201025T010000
END:STANDARD
BEGIN:DAYLIGHT
TZOFFSETFROM:+0100
TZOFFSETTO:+0200
TZNAME:CEST
DTSTART:20210328T010000
END:DAYLIGHT
BEGIN:STANDARD
TZOFFSETFROM:+0200
TZOFFSETTO:+0100
TZNAME:CET
DTSTART:20211031T010000
END:STANDARD
END:VTIMEZONE
BEGIN:VEVENT
DTSTART;VALUE=DATE:20191221
DTEND;VALUE=DATE:20200107
DTSTAMP:20260423T124655
CREATED:20190911T164616Z
LAST-MODIFIED:20190911T164616Z
UID:7966-1576886400-1578355199@www.porciagymnasium.at
SUMMARY:Weihnachtsferien
DESCRIPTION:
URL:https://www.porciagymnasium.at/termin/weihnachtsferien-3-2/
END:VEVENT
BEGIN:VEVENT
DTSTART;VALUE=DATE:20191224
DTEND;VALUE=DATE:20200107
DTSTAMP:20260423T124655
CREATED:20190820T201126Z
LAST-MODIFIED:20190820T201126Z
UID:7938-1577145600-1578355199@www.porciagymnasium.at
SUMMARY:Weihnachtsferien
DESCRIPTION:
URL:https://www.porciagymnasium.at/termin/weihnachtsferien-2-2/
END:VEVENT
BEGIN:VEVENT
DTSTART;TZID=Europe/Vienna:20191224T080000
DTEND;TZID=Europe/Vienna:20200106T170000
DTSTAMP:20260423T124655
CREATED:20190819T093541Z
LAST-MODIFIED:20190830T084823Z
UID:1939-1577174400-1578330000@www.porciagymnasium.at
SUMMARY:Weihnachtsferien
DESCRIPTION:
URL:https://www.porciagymnasium.at/termin/weihnachtsferien-2/
CATEGORIES:FREI
END:VEVENT
BEGIN:VEVENT
DTSTART;VALUE=DATE:20200107
DTEND;VALUE=DATE:20200112
DTSTAMP:20260423T124655
CREATED:20190911T164820Z
LAST-MODIFIED:20190911T164820Z
UID:7967-1578355200-1578787199@www.porciagymnasium.at
SUMMARY:Skikurs Heiligenblut\, Klassen 3A/B
DESCRIPTION:
URL:https://www.porciagymnasium.at/termin/skikurs-heiligenblut-klassen-3a-b/
END:VEVENT
BEGIN:VEVENT
DTSTART;TZID=Europe/Vienna:20200108T133000
DTEND;TZID=Europe/Vienna:20200108T143000
DTSTAMP:20260423T124655
CREATED:20190906T065028Z
LAST-MODIFIED:20190906T065028Z
UID:2083-1578490200-1578493800@www.porciagymnasium.at
SUMMARY:Konferenz Tag der offenen Tür
DESCRIPTION:
URL:https://www.porciagymnasium.at/termin/konferenz-tag-der-offenen-tuer/
CATEGORIES:Lehrer
END:VEVENT
BEGIN:VEVENT
DTSTART;VALUE=DATE:20200109
DTEND;VALUE=DATE:20200110
DTSTAMP:20260423T124655
CREATED:20191003T153041Z
LAST-MODIFIED:20191003T153041Z
UID:3144-1578528000-1578614399@www.porciagymnasium.at
SUMMARY:Techtalents-Workshops\, Uni Klagenfurt\, Klasse 6B
DESCRIPTION:
URL:https://www.porciagymnasium.at/termin/techtalents-workshops-uni-klagenfurt-klasse-6b/
END:VEVENT
BEGIN:VEVENT
DTSTART;TZID=Europe/Vienna:20200110T080000
DTEND;TZID=Europe/Vienna:20200110T120000
DTSTAMP:20260423T124655
CREATED:20190905T104801Z
LAST-MODIFIED:20190905T104801Z
UID:2063-1578643200-1578657600@www.porciagymnasium.at
SUMMARY:Anmeldung zur Reifeprüfung
DESCRIPTION:
URL:https://www.porciagymnasium.at/termin/anmeldung-zur-reifepruefung-2/
CATEGORIES:Reifeprüfung
END:VEVENT
BEGIN:VEVENT
DTSTART;VALUE=DATE:20200113
DTEND;VALUE=DATE:20200114
DTSTAMP:20260423T124655
CREATED:20190911T165014Z
LAST-MODIFIED:20190911T165014Z
UID:3047-1578873600-1578959999@www.porciagymnasium.at
SUMMARY:2. SGA-Sitzung
DESCRIPTION:Beginn 17:00 Uhr
URL:https://www.porciagymnasium.at/termin/2-sga-sitzung-2-2/
END:VEVENT
BEGIN:VEVENT
DTSTART;VALUE=DATE:20200113
DTEND;VALUE=DATE:20200118
DTSTAMP:20260423T124655
CREATED:20190911T164743Z
LAST-MODIFIED:20190911T164743Z
UID:3039-1578873600-1579305599@www.porciagymnasium.at
SUMMARY:Skikurs Heiligenblut\, Klassen 3C/D/E
DESCRIPTION:
URL:https://www.porciagymnasium.at/termin/skikurs-heiligenblut-klassen-3c-d-e/
END:VEVENT
BEGIN:VEVENT
DTSTART;VALUE=DATE:20200113
DTEND;VALUE=DATE:20200118
DTSTAMP:20260423T124655
CREATED:20190911T164905Z
LAST-MODIFIED:20190911T164905Z
UID:7968-1578873600-1579305599@www.porciagymnasium.at
SUMMARY:Skikurs Bad Kleinkirchheim\, Klassen 2A/B
DESCRIPTION:
URL:https://www.porciagymnasium.at/termin/skikurs-bad-kleinkirchheim-klassen-2a-b/
END:VEVENT
BEGIN:VEVENT
DTSTART;TZID=Europe/Vienna:20200113T080000
DTEND;TZID=Europe/Vienna:20200117T170000
DTSTAMP:20260423T124655
CREATED:20191002T085222Z
LAST-MODIFIED:20191002T091301Z
UID:2188-1578902400-1579280400@www.porciagymnasium.at
SUMMARY:Schikurs  -  2-te A / B
DESCRIPTION:
URL:https://www.porciagymnasium.at/termin/schikurs-2-a-b/
LOCATION:St. Oswald
END:VEVENT
BEGIN:VEVENT
DTSTART;TZID=Europe/Vienna:20200114T170000
DTEND;TZID=Europe/Vienna:20200114T193000
DTSTAMP:20260423T124655
CREATED:20200113T112410Z
LAST-MODIFIED:20200114T141951Z
UID:2957-1579021200-1579030200@www.porciagymnasium.at
SUMMARY:Eltern / Kind - Workshop - Termin 1
DESCRIPTION:
URL:https://www.porciagymnasium.at/termin/eltern-kind-workshop/
END:VEVENT
BEGIN:VEVENT
DTSTART;VALUE=DATE:20200115
DTEND;VALUE=DATE:20200116
DTSTAMP:20260423T124655
CREATED:20190911T165102Z
LAST-MODIFIED:20190911T165102Z
UID:7969-1579046400-1579132799@www.porciagymnasium.at
SUMMARY:Wahl der schriftlichen und mündlichen Maturafächer
DESCRIPTION:
URL:https://www.porciagymnasium.at/termin/wahl-der-schriftlichen-und-muendlichen-maturafaecher-2/
END:VEVENT
BEGIN:VEVENT
DTSTART;TZID=Europe/Vienna:20200115T170000
DTEND;TZID=Europe/Vienna:20200115T193000
DTSTAMP:20260423T124655
CREATED:20200114T142040Z
LAST-MODIFIED:20200114T142057Z
UID:2964-1579107600-1579116600@www.porciagymnasium.at
SUMMARY:Eltern / Kind - Workshop - Termin 2
DESCRIPTION:
URL:https://www.porciagymnasium.at/termin/eltern-kind-workshop-termin-2/
END:VEVENT
BEGIN:VEVENT
DTSTART;VALUE=DATE:20200117
DTEND;VALUE=DATE:20200118
DTSTAMP:20260423T124655
CREATED:20190911T165156Z
LAST-MODIFIED:20190911T165156Z
UID:3051-1579219200-1579305599@www.porciagymnasium.at
SUMMARY:Englisches Theater\, 7. und 8. Klassen
DESCRIPTION:Stadtsaal\, Beginn 11:45 Uhr
URL:https://www.porciagymnasium.at/termin/englisches-theater-7-und-8-klassen/
END:VEVENT
BEGIN:VEVENT
DTSTART;TZID=Europe/Vienna:20200118T083000
DTEND;TZID=Europe/Vienna:20200118T120000
DTSTAMP:20260423T124655
CREATED:20190906T065239Z
LAST-MODIFIED:20190906T065239Z
UID:2085-1579336200-1579348800@www.porciagymnasium.at
SUMMARY:Tag der offenen Tür
DESCRIPTION:
URL:https://www.porciagymnasium.at/termin/tag-der-offenen-tuer-2/
CATEGORIES:WICHTIG
END:VEVENT
BEGIN:VEVENT
DTSTART;TZID=Europe/Vienna:20200118T083000
DTEND;TZID=Europe/Vienna:20200118T120000
DTSTAMP:20260423T124655
CREATED:20191022T060629Z
LAST-MODIFIED:20191022T060640Z
UID:2569-1579336200-1579348800@www.porciagymnasium.at
SUMMARY:Tag der offenen Tür
DESCRIPTION:
URL:https://www.porciagymnasium.at/termin/tag-der-offenen-tuer-3/
LOCATION:BRG Spittal
CATEGORIES:WICHTIG
END:VEVENT
BEGIN:VEVENT
DTSTART;VALUE=DATE:20200120
DTEND;VALUE=DATE:20200125
DTSTAMP:20260423T124655
CREATED:20190911T164934Z
LAST-MODIFIED:20190911T164934Z
UID:3045-1579478400-1579910399@www.porciagymnasium.at
SUMMARY:Skikurs Bad Kleinkirchheim\, Klassen 2C/D
DESCRIPTION:
URL:https://www.porciagymnasium.at/termin/skikurs-bad-kleinkirchheim-klassen-2c-d/
END:VEVENT
BEGIN:VEVENT
DTSTART;TZID=Europe/Vienna:20200120T080000
DTEND;TZID=Europe/Vienna:20200124T170000
DTSTAMP:20260423T124655
CREATED:20191002T085332Z
LAST-MODIFIED:20191002T085338Z
UID:2191-1579507200-1579885200@www.porciagymnasium.at
SUMMARY:Schikurs  2-te C / G
DESCRIPTION:
URL:https://www.porciagymnasium.at/termin/schikurs-2-te-c-g/
LOCATION:St. Oswald
END:VEVENT
BEGIN:VEVENT
DTSTART;TZID=Europe/Vienna:20200121T080000
DTEND;TZID=Europe/Vienna:20200121T120000
DTSTAMP:20260423T124655
CREATED:20191021T070529Z
LAST-MODIFIED:20191021T070529Z
UID:2545-1579593600-1579608000@www.porciagymnasium.at
SUMMARY:Schnuppertag
DESCRIPTION:Im Rahmen unserer Schnuppertage können die Volksschulkinder den Schulalltag\nam BRG Spittal/Drau hautnah miterleben. \nNach einer Begrüßung und einem Rundgang in unserer neuen Schule begleiten\nIhre Kinder drei Stunden lang eine Klasse – auf Wunsch ist auch der\nBesuch in einer unserer Schwerpunktklassen möglich! \nBitte beachten Sie\, dass für unsere Schnuppertage eigens bestimmte Termine\nvorgesehen sind. Die Ameldung erfolgt spätestens zwei Tage vor dem gewünschten\nTermin über das Sekretariat (persönlich\, telefonisch oder per E-Mail). \nTermine: \n\n10.12.2019\n12.12.2019\n21.01.2020\n22.01.2020\n23.01.2020\n\nZusatztermine: 27.01.2020 28.01.2020\nBeginn: 08:00 Uhr Ende: 12:00 Uhr \n  \nWir freuen uns auf Ihren Besuch.\nFür weitere Auskünfte steht Ihnen die Direktion jederzeit zur Verfügung.\n04762 41 12 oder brg-spittal@bildung-ktn.gv.at
URL:https://www.porciagymnasium.at/termin/schnuppertag-3/
LOCATION:Arena BRG Spittal\, Zernattostraße 10\, Spittal/Drau\, Kärnten\, 9800\, Austria
CATEGORIES:WICHTIG
ATTACH;FMTTYPE=image/jpeg:https://www.porciagymnasium.at/wp-content/uploads/2019/10/schnuppern_FA_2021.jpg
END:VEVENT
BEGIN:VEVENT
DTSTART;TZID=Europe/Vienna:20200122T080000
DTEND;TZID=Europe/Vienna:20200122T120000
DTSTAMP:20260423T124655
CREATED:20191021T070615Z
LAST-MODIFIED:20191021T070615Z
UID:2547-1579680000-1579694400@www.porciagymnasium.at
SUMMARY:Schnuppertag
DESCRIPTION:Im Rahmen unserer Schnuppertage können die Volksschulkinder den Schulalltag\nam BRG Spittal/Drau hautnah miterleben. \nNach einer Begrüßung und einem Rundgang in unserer neuen Schule begleiten\nIhre Kinder drei Stunden lang eine Klasse – auf Wunsch ist auch der\nBesuch in einer unserer Schwerpunktklassen möglich! \nBitte beachten Sie\, dass für unsere Schnuppertage eigens bestimmte Termine\nvorgesehen sind. Die Ameldung erfolgt spätestens zwei Tage vor dem gewünschten\nTermin über das Sekretariat (persönlich\, telefonisch oder per E-Mail). \nTermine: \n\n10.12.2019\n12.12.2019\n21.01.2020\n22.01.2020\n23.01.2020\n\nZusatztermine: 27.01.2020 28.01.2020\nBeginn: 08:00 Uhr Ende: 12:00 Uhr \n  \nWir freuen uns auf Ihren Besuch.\nFür weitere Auskünfte steht Ihnen die Direktion jederzeit zur Verfügung.\n04762 41 12 oder brg-spittal@bildung-ktn.gv.at
URL:https://www.porciagymnasium.at/termin/schnuppertag-4/
LOCATION:Arena BRG Spittal\, Zernattostraße 10\, Spittal/Drau\, Kärnten\, 9800\, Austria
CATEGORIES:WICHTIG
ATTACH;FMTTYPE=image/jpeg:https://www.porciagymnasium.at/wp-content/uploads/2019/10/schnuppern_FA_2021.jpg
END:VEVENT
BEGIN:VEVENT
DTSTART;VALUE=DATE:20200123
DTEND;VALUE=DATE:20200124
DTSTAMP:20260423T124655
CREATED:20190911T165248Z
LAST-MODIFIED:20190911T165248Z
UID:7970-1579737600-1579823999@www.porciagymnasium.at
SUMMARY:Informationsabend und Modulwahl-Beratung der 1. Klassen
DESCRIPTION:Beginn 18:00 Uhr
URL:https://www.porciagymnasium.at/termin/informationsabend-und-modulwahl-beratung-der-1-klassen-2/
END:VEVENT
BEGIN:VEVENT
DTSTART;TZID=Europe/Vienna:20200123T080000
DTEND;TZID=Europe/Vienna:20200123T120000
DTSTAMP:20260423T124655
CREATED:20191021T070702Z
LAST-MODIFIED:20191021T070702Z
UID:2549-1579766400-1579780800@www.porciagymnasium.at
SUMMARY:Schnuppertag
DESCRIPTION:Im Rahmen unserer Schnuppertage können die Volksschulkinder den Schulalltag\nam BRG Spittal/Drau hautnah miterleben. \nNach einer Begrüßung und einem Rundgang in unserer neuen Schule begleiten\nIhre Kinder drei Stunden lang eine Klasse – auf Wunsch ist auch der\nBesuch in einer unserer Schwerpunktklassen möglich! \nBitte beachten Sie\, dass für unsere Schnuppertage eigens bestimmte Termine\nvorgesehen sind. Die Ameldung erfolgt spätestens zwei Tage vor dem gewünschten\nTermin über das Sekretariat (persönlich\, telefonisch oder per E-Mail). \nTermine: \n\n10.12.2019\n12.12.2019\n21.01.2020\n22.01.2020\n23.01.2020\n\nZusatztermine: 27.01.2020 28.01.2020\nBeginn: 08:00 Uhr Ende: 12:00 Uhr \n  \nWir freuen uns auf Ihren Besuch.\nFür weitere Auskünfte steht Ihnen die Direktion jederzeit zur Verfügung.\n04762 41 12 oder brg-spittal@bildung-ktn.gv.at
URL:https://www.porciagymnasium.at/termin/schnuppertag-5/
LOCATION:Arena BRG Spittal\, Zernattostraße 10\, Spittal/Drau\, Kärnten\, 9800\, Austria
CATEGORIES:WICHTIG
ATTACH;FMTTYPE=image/jpeg:https://www.porciagymnasium.at/wp-content/uploads/2019/10/schnuppern_FA_2021.jpg
END:VEVENT
BEGIN:VEVENT
DTSTART;VALUE=DATE:20200128
DTEND;VALUE=DATE:20200129
DTSTAMP:20260423T124656
CREATED:20190911T165343Z
LAST-MODIFIED:20190911T165343Z
UID:7971-1580169600-1580255999@www.porciagymnasium.at
SUMMARY:Englisches Theater\, 3. und 4. Klassen
DESCRIPTION:Stadtsaal\, Beginn 8:30 Uhr
URL:https://www.porciagymnasium.at/termin/englisches-theater-3-und-4-klassen/
END:VEVENT
BEGIN:VEVENT
DTSTART;TZID=Europe/Vienna:20200128T080000
DTEND;TZID=Europe/Vienna:20200128T170000
DTSTAMP:20260423T124656
CREATED:20200108T080730Z
LAST-MODIFIED:20200108T080739Z
UID:2933-1580198400-1580230800@www.porciagymnasium.at
SUMMARY:Bezirksschulschitag - Bad Kleinkirchheim
DESCRIPTION:
URL:https://www.porciagymnasium.at/termin/bezirksschulschitag-bad-kleinkirchheim/
LOCATION:Bad Kleinkirchheim
END:VEVENT
BEGIN:VEVENT
DTSTART;TZID=Europe/Vienna:20200128T170000
DTEND;TZID=Europe/Vienna:20200128T193000
DTSTAMP:20260423T124656
CREATED:20200113T112511Z
LAST-MODIFIED:20200114T142214Z
UID:2960-1580230800-1580239800@www.porciagymnasium.at
SUMMARY:Eltern / Kind Workshop - Termin 3
DESCRIPTION:
URL:https://www.porciagymnasium.at/termin/eltern-kind-workshop-termin-3-4/
END:VEVENT
BEGIN:VEVENT
DTSTART;TZID=Europe/Vienna:20200128T183000
DTEND;TZID=Europe/Vienna:20200128T183000
DTSTAMP:20260423T124656
CREATED:20200115T105647Z
LAST-MODIFIED:20200115T105659Z
UID:2969-1580236200-1580236200@www.porciagymnasium.at
SUMMARY:2. SGA Sitzung
DESCRIPTION:
URL:https://www.porciagymnasium.at/termin/2-sga-sitzung-2/
LOCATION:Besprechungszimmer BRG
END:VEVENT
BEGIN:VEVENT
DTSTART;TZID=Europe/Vienna:20200129T170000
DTEND;TZID=Europe/Vienna:20200129T193000
DTSTAMP:20260423T124656
CREATED:20200114T142249Z
LAST-MODIFIED:20200114T142249Z
UID:2967-1580317200-1580326200@www.porciagymnasium.at
SUMMARY:Eltern / Kind Workshop - Termin 4
DESCRIPTION:
URL:https://www.porciagymnasium.at/termin/eltern-kind-workshop-termin-4/
END:VEVENT
BEGIN:VEVENT
DTSTART;TZID=Europe/Vienna:20200131T080000
DTEND;TZID=Europe/Vienna:20200131T170000
DTSTAMP:20260423T124656
CREATED:20191007T100836Z
LAST-MODIFIED:20191007T100856Z
UID:2262-1580457600-1580490000@www.porciagymnasium.at
SUMMARY:Snowboard Regionalmeisterschaften
DESCRIPTION:
URL:https://www.porciagymnasium.at/termin/snowboard-regionalmeisterschaften/
LOCATION:Goldeck
END:VEVENT
END:VCALENDAR