BEGIN:VCALENDAR
VERSION:2.0
PRODID:-//BG|BRG Porcia - ECPv6.15.20//NONSGML v1.0//EN
CALSCALE:GREGORIAN
METHOD:PUBLISH
X-ORIGINAL-URL:https://www.porciagymnasium.at
X-WR-CALDESC:Veranstaltungen für BG|BRG Porcia
REFRESH-INTERVAL;VALUE=DURATION:PT1H
X-Robots-Tag:noindex
X-PUBLISHED-TTL:PT1H
BEGIN:VTIMEZONE
TZID:Europe/Vienna
BEGIN:DAYLIGHT
TZOFFSETFROM:+0100
TZOFFSETTO:+0200
TZNAME:CEST
DTSTART:20230326T010000
END:DAYLIGHT
BEGIN:STANDARD
TZOFFSETFROM:+0200
TZOFFSETTO:+0100
TZNAME:CET
DTSTART:20231029T010000
END:STANDARD
BEGIN:DAYLIGHT
TZOFFSETFROM:+0100
TZOFFSETTO:+0200
TZNAME:CEST
DTSTART:20240331T010000
END:DAYLIGHT
BEGIN:STANDARD
TZOFFSETFROM:+0200
TZOFFSETTO:+0100
TZNAME:CET
DTSTART:20241027T010000
END:STANDARD
BEGIN:DAYLIGHT
TZOFFSETFROM:+0100
TZOFFSETTO:+0200
TZNAME:CEST
DTSTART:20250330T010000
END:DAYLIGHT
BEGIN:STANDARD
TZOFFSETFROM:+0200
TZOFFSETTO:+0100
TZNAME:CET
DTSTART:20251026T010000
END:STANDARD
END:VTIMEZONE
BEGIN:VEVENT
DTSTART;TZID=Europe/Vienna:20240923T074500
DTEND;TZID=Europe/Vienna:20240923T131500
DTSTAMP:20260420T171249
CREATED:20240905T195739Z
LAST-MODIFIED:20240905T195739Z
UID:12113-1727077500-1727097300@www.porciagymnasium.at
SUMMARY:Fotoaktion
DESCRIPTION:
URL:https://www.porciagymnasium.at/termin/fotoaktion-7/
END:VEVENT
BEGIN:VEVENT
DTSTART;TZID=Europe/Vienna:20240923T080000
DTEND;TZID=Europe/Vienna:20240924T170000
DTSTAMP:20260420T171249
CREATED:20241120T093832Z
LAST-MODIFIED:20241120T093832Z
UID:13333-1727078400-1727197200@www.porciagymnasium.at
SUMMARY:5A - Orientierungstage
DESCRIPTION:
URL:https://www.porciagymnasium.at/termin/5a-orientierungstage/
LOCATION:Innerkrems
END:VEVENT
END:VCALENDAR