BEGIN:VCALENDAR
VERSION:2.0
PRODID:-//BG|BRG Porcia - ECPv6.15.20//NONSGML v1.0//EN
CALSCALE:GREGORIAN
METHOD:PUBLISH
X-ORIGINAL-URL:https://www.porciagymnasium.at
X-WR-CALDESC:Veranstaltungen für BG|BRG Porcia
REFRESH-INTERVAL;VALUE=DURATION:PT1H
X-Robots-Tag:noindex
X-PUBLISHED-TTL:PT1H
BEGIN:VTIMEZONE
TZID:Europe/Vienna
BEGIN:DAYLIGHT
TZOFFSETFROM:+0100
TZOFFSETTO:+0200
TZNAME:CEST
DTSTART:20230326T010000
END:DAYLIGHT
BEGIN:STANDARD
TZOFFSETFROM:+0200
TZOFFSETTO:+0100
TZNAME:CET
DTSTART:20231029T010000
END:STANDARD
BEGIN:DAYLIGHT
TZOFFSETFROM:+0100
TZOFFSETTO:+0200
TZNAME:CEST
DTSTART:20240331T010000
END:DAYLIGHT
BEGIN:STANDARD
TZOFFSETFROM:+0200
TZOFFSETTO:+0100
TZNAME:CET
DTSTART:20241027T010000
END:STANDARD
BEGIN:DAYLIGHT
TZOFFSETFROM:+0100
TZOFFSETTO:+0200
TZNAME:CEST
DTSTART:20250330T010000
END:DAYLIGHT
BEGIN:STANDARD
TZOFFSETFROM:+0200
TZOFFSETTO:+0100
TZNAME:CET
DTSTART:20251026T010000
END:STANDARD
END:VTIMEZONE
BEGIN:VEVENT
DTSTART;TZID=Europe/Vienna:20240916T080000
DTEND;TZID=Europe/Vienna:20240918T170000
DTSTAMP:20260420T171245
CREATED:20241120T083556Z
LAST-MODIFIED:20241120T083556Z
UID:13319-1726473600-1726678800@www.porciagymnasium.at
SUMMARY:2B - Orientierungstage
DESCRIPTION:
URL:https://www.porciagymnasium.at/termin/2b-orientierungstage/
LOCATION:Bad Gastein
END:VEVENT
BEGIN:VEVENT
DTSTART;TZID=Europe/Vienna:20240918T080000
DTEND;TZID=Europe/Vienna:20240920T170000
DTSTAMP:20260420T171245
CREATED:20241120T081203Z
LAST-MODIFIED:20241120T081203Z
UID:13309-1726646400-1726851600@www.porciagymnasium.at
SUMMARY:1B - CLD Klassenfahrt
DESCRIPTION:
URL:https://www.porciagymnasium.at/termin/1b-cld-klassenfahrt/
LOCATION:Bad Gastein
END:VEVENT
END:VCALENDAR