BEGIN:VCALENDAR
VERSION:2.0
PRODID:-//BG|BRG Porcia - ECPv6.15.20//NONSGML v1.0//EN
CALSCALE:GREGORIAN
METHOD:PUBLISH
X-WR-CALNAME:BG|BRG Porcia
X-ORIGINAL-URL:https://www.porciagymnasium.at
X-WR-CALDESC:Veranstaltungen für BG|BRG Porcia
REFRESH-INTERVAL;VALUE=DURATION:PT1H
X-Robots-Tag:noindex
X-PUBLISHED-TTL:PT1H
BEGIN:VTIMEZONE
TZID:Europe/Vienna
BEGIN:DAYLIGHT
TZOFFSETFROM:+0100
TZOFFSETTO:+0200
TZNAME:CEST
DTSTART:20230326T010000
END:DAYLIGHT
BEGIN:STANDARD
TZOFFSETFROM:+0200
TZOFFSETTO:+0100
TZNAME:CET
DTSTART:20231029T010000
END:STANDARD
BEGIN:DAYLIGHT
TZOFFSETFROM:+0100
TZOFFSETTO:+0200
TZNAME:CEST
DTSTART:20240331T010000
END:DAYLIGHT
BEGIN:STANDARD
TZOFFSETFROM:+0200
TZOFFSETTO:+0100
TZNAME:CET
DTSTART:20241027T010000
END:STANDARD
BEGIN:DAYLIGHT
TZOFFSETFROM:+0100
TZOFFSETTO:+0200
TZNAME:CEST
DTSTART:20250330T010000
END:DAYLIGHT
BEGIN:STANDARD
TZOFFSETFROM:+0200
TZOFFSETTO:+0100
TZNAME:CET
DTSTART:20251026T010000
END:STANDARD
END:VTIMEZONE
BEGIN:VEVENT
DTSTART;TZID=Europe/Vienna:20240910T103500
DTEND;TZID=Europe/Vienna:20240910T122500
DTSTAMP:20260420T170947
CREATED:20240828T053137Z
LAST-MODIFIED:20240828T053152Z
UID:12059-1725964500-1725971100@www.porciagymnasium.at
SUMMARY:Wiederholungsprüfung schriftlich
DESCRIPTION:
URL:https://www.porciagymnasium.at/termin/wiederholungspruefung-schriftlich-2/
CATEGORIES:WICHTIG
END:VEVENT
BEGIN:VEVENT
DTSTART;TZID=Europe/Vienna:20240910T140000
DTEND;TZID=Europe/Vienna:20240910T170000
DTSTAMP:20260420T170947
CREATED:20240828T053228Z
LAST-MODIFIED:20240828T053324Z
UID:12061-1725976800-1725987600@www.porciagymnasium.at
SUMMARY:Wiederholungsprüfung mündlich
DESCRIPTION:
URL:https://www.porciagymnasium.at/termin/wiederholungspruefung-muendlich-2/
CATEGORIES:WICHTIG
END:VEVENT
BEGIN:VEVENT
DTSTART;TZID=Europe/Vienna:20240910T170000
DTEND;TZID=Europe/Vienna:20240910T183000
DTSTAMP:20260420T170947
CREATED:20240828T053357Z
LAST-MODIFIED:20240828T053357Z
UID:12063-1725987600-1725993000@www.porciagymnasium.at
SUMMARY:Jahresabschlusskonferenz
DESCRIPTION:
URL:https://www.porciagymnasium.at/termin/jahresabschlusskonferenz/
CATEGORIES:Lehrer
END:VEVENT
END:VCALENDAR