BEGIN:VCALENDAR
VERSION:2.0
PRODID:-//BG|BRG Porcia - ECPv6.15.20//NONSGML v1.0//EN
CALSCALE:GREGORIAN
METHOD:PUBLISH
X-WR-CALNAME:BG|BRG Porcia
X-ORIGINAL-URL:https://www.porciagymnasium.at
X-WR-CALDESC:Veranstaltungen für BG|BRG Porcia
REFRESH-INTERVAL;VALUE=DURATION:PT1H
X-Robots-Tag:noindex
X-PUBLISHED-TTL:PT1H
BEGIN:VTIMEZONE
TZID:Europe/Vienna
BEGIN:DAYLIGHT
TZOFFSETFROM:+0100
TZOFFSETTO:+0200
TZNAME:CEST
DTSTART:20230326T010000
END:DAYLIGHT
BEGIN:STANDARD
TZOFFSETFROM:+0200
TZOFFSETTO:+0100
TZNAME:CET
DTSTART:20231029T010000
END:STANDARD
BEGIN:DAYLIGHT
TZOFFSETFROM:+0100
TZOFFSETTO:+0200
TZNAME:CEST
DTSTART:20240331T010000
END:DAYLIGHT
BEGIN:STANDARD
TZOFFSETFROM:+0200
TZOFFSETTO:+0100
TZNAME:CET
DTSTART:20241027T010000
END:STANDARD
BEGIN:DAYLIGHT
TZOFFSETFROM:+0100
TZOFFSETTO:+0200
TZNAME:CEST
DTSTART:20250330T010000
END:DAYLIGHT
BEGIN:STANDARD
TZOFFSETFROM:+0200
TZOFFSETTO:+0100
TZNAME:CET
DTSTART:20251026T010000
END:STANDARD
END:VTIMEZONE
BEGIN:VEVENT
DTSTART;TZID=Europe/Vienna:20240704T080000
DTEND;TZID=Europe/Vienna:20240704T093000
DTSTAMP:20260420T184533
CREATED:20231005T093530Z
LAST-MODIFIED:20240516T080843Z
UID:10406-1720080000-1720085400@www.porciagymnasium.at
SUMMARY:2. Klassen  - Schulschlussgottesdienst
DESCRIPTION:
URL:https://www.porciagymnasium.at/termin/2-klassen-schulschlussgottesdienst/
LOCATION:Kath. Stadtpfarrkirche
END:VEVENT
BEGIN:VEVENT
DTSTART;TZID=Europe/Vienna:20240704T080000
DTEND;TZID=Europe/Vienna:20240704T120000
DTSTAMP:20260420T184533
CREATED:20240214T090657Z
LAST-MODIFIED:20240214T090657Z
UID:11412-1720080000-1720094400@www.porciagymnasium.at
SUMMARY:Aufnahmeprüfung MATHEMATIK
DESCRIPTION:
URL:https://www.porciagymnasium.at/termin/aufnahmepruefung-mathematik-2/
CATEGORIES:Dein Weg ins Porciagymnasium
END:VEVENT
BEGIN:VEVENT
DTSTART;TZID=Europe/Vienna:20240704T100000
DTEND;TZID=Europe/Vienna:20240704T113000
DTSTAMP:20260420T184533
CREATED:20231005T093936Z
LAST-MODIFIED:20240516T081615Z
UID:10408-1720087200-1720092600@www.porciagymnasium.at
SUMMARY:4.  Klassen - Schulschlussgottesdienst
DESCRIPTION:
URL:https://www.porciagymnasium.at/termin/4-klassen-schulschlussgottesdienst/
LOCATION:Kath. Stadtpfarrkirche
END:VEVENT
END:VCALENDAR