BEGIN:VCALENDAR
VERSION:2.0
PRODID:-//BG|BRG Porcia - ECPv6.15.20//NONSGML v1.0//EN
CALSCALE:GREGORIAN
METHOD:PUBLISH
X-WR-CALNAME:BG|BRG Porcia
X-ORIGINAL-URL:https://www.porciagymnasium.at
X-WR-CALDESC:Veranstaltungen für BG|BRG Porcia
REFRESH-INTERVAL;VALUE=DURATION:PT1H
X-Robots-Tag:noindex
X-PUBLISHED-TTL:PT1H
BEGIN:VTIMEZONE
TZID:Europe/Vienna
BEGIN:DAYLIGHT
TZOFFSETFROM:+0100
TZOFFSETTO:+0200
TZNAME:CEST
DTSTART:20230326T010000
END:DAYLIGHT
BEGIN:STANDARD
TZOFFSETFROM:+0200
TZOFFSETTO:+0100
TZNAME:CET
DTSTART:20231029T010000
END:STANDARD
BEGIN:DAYLIGHT
TZOFFSETFROM:+0100
TZOFFSETTO:+0200
TZNAME:CEST
DTSTART:20240331T010000
END:DAYLIGHT
BEGIN:STANDARD
TZOFFSETFROM:+0200
TZOFFSETTO:+0100
TZNAME:CET
DTSTART:20241027T010000
END:STANDARD
BEGIN:DAYLIGHT
TZOFFSETFROM:+0100
TZOFFSETTO:+0200
TZNAME:CEST
DTSTART:20250330T010000
END:DAYLIGHT
BEGIN:STANDARD
TZOFFSETFROM:+0200
TZOFFSETTO:+0100
TZNAME:CET
DTSTART:20251026T010000
END:STANDARD
END:VTIMEZONE
BEGIN:VEVENT
DTSTART;TZID=Europe/Vienna:20240603T080000
DTEND;TZID=Europe/Vienna:20240624T170000
DTSTAMP:20260420T232439
CREATED:20240402T083517Z
LAST-MODIFIED:20240402T083517Z
UID:11567-1717401600-1719248400@www.porciagymnasium.at
SUMMARY:Austauschprojekt - USA/Texas am Porciagymnasium
DESCRIPTION:
URL:https://www.porciagymnasium.at/termin/austauschprojekt-usa-texas-am-porciagymnasium/
END:VEVENT
BEGIN:VEVENT
DTSTART;TZID=Europe/Vienna:20240610T080000
DTEND;TZID=Europe/Vienna:20240613T130000
DTSTAMP:20260420T232439
CREATED:20231120T072034Z
LAST-MODIFIED:20240527T142822Z
UID:10945-1718006400-1718283600@www.porciagymnasium.at
SUMMARY:Mündliche Reifeprüfung 8ag\, 8bg
DESCRIPTION:
URL:https://www.porciagymnasium.at/termin/muendliche-reifepruefung-5/
CATEGORIES:Reifeprüfung
END:VEVENT
BEGIN:VEVENT
DTSTART;TZID=Europe/Vienna:20240613T183000
DTEND;TZID=Europe/Vienna:20240613T220000
DTSTAMP:20260420T232439
CREATED:20240527T142939Z
LAST-MODIFIED:20240527T142939Z
UID:11786-1718303400-1718316000@www.porciagymnasium.at
SUMMARY:Verleihung der RP Zeugnisse 8ag\, 8bg
DESCRIPTION:
URL:https://www.porciagymnasium.at/termin/verleihung-der-rp-zeugnisse-8ag-8bg/
CATEGORIES:Reifeprüfung
END:VEVENT
END:VCALENDAR