BEGIN:VCALENDAR
VERSION:2.0
PRODID:-//BG|BRG Porcia - ECPv6.15.20//NONSGML v1.0//EN
CALSCALE:GREGORIAN
METHOD:PUBLISH
X-ORIGINAL-URL:https://www.porciagymnasium.at
X-WR-CALDESC:Veranstaltungen für BG|BRG Porcia
REFRESH-INTERVAL;VALUE=DURATION:PT1H
X-Robots-Tag:noindex
X-PUBLISHED-TTL:PT1H
BEGIN:VTIMEZONE
TZID:Europe/Vienna
BEGIN:DAYLIGHT
TZOFFSETFROM:+0100
TZOFFSETTO:+0200
TZNAME:CEST
DTSTART:20230326T010000
END:DAYLIGHT
BEGIN:STANDARD
TZOFFSETFROM:+0200
TZOFFSETTO:+0100
TZNAME:CET
DTSTART:20231029T010000
END:STANDARD
BEGIN:DAYLIGHT
TZOFFSETFROM:+0100
TZOFFSETTO:+0200
TZNAME:CEST
DTSTART:20240331T010000
END:DAYLIGHT
BEGIN:STANDARD
TZOFFSETFROM:+0200
TZOFFSETTO:+0100
TZNAME:CET
DTSTART:20241027T010000
END:STANDARD
BEGIN:DAYLIGHT
TZOFFSETFROM:+0100
TZOFFSETTO:+0200
TZNAME:CEST
DTSTART:20250330T010000
END:DAYLIGHT
BEGIN:STANDARD
TZOFFSETFROM:+0200
TZOFFSETTO:+0100
TZNAME:CET
DTSTART:20251026T010000
END:STANDARD
END:VTIMEZONE
BEGIN:VEVENT
DTSTART;TZID=Europe/Vienna:20240603T080000
DTEND;TZID=Europe/Vienna:20240604T170000
DTSTAMP:20260420T234141
CREATED:20231120T071852Z
LAST-MODIFIED:20231207T092641Z
UID:10943-1717401600-1717520400@www.porciagymnasium.at
SUMMARY:Kompensationsprüfungen
DESCRIPTION:
URL:https://www.porciagymnasium.at/termin/kompensationspruefungen-13/
CATEGORIES:Reifeprüfung
END:VEVENT
BEGIN:VEVENT
DTSTART;TZID=Europe/Vienna:20240603T080000
DTEND;TZID=Europe/Vienna:20240624T170000
DTSTAMP:20260420T234141
CREATED:20240402T083517Z
LAST-MODIFIED:20240402T083517Z
UID:11567-1717401600-1719248400@www.porciagymnasium.at
SUMMARY:Austauschprojekt - USA/Texas am Porciagymnasium
DESCRIPTION:
URL:https://www.porciagymnasium.at/termin/austauschprojekt-usa-texas-am-porciagymnasium/
END:VEVENT
BEGIN:VEVENT
DTSTART;TZID=Europe/Vienna:20240603T183000
DTEND;TZID=Europe/Vienna:20240603T183000
DTSTAMP:20260420T234141
CREATED:20240529T070103Z
LAST-MODIFIED:20240529T070103Z
UID:11824-1717439400-1717439400@www.porciagymnasium.at
SUMMARY:6.AR  -  Elternabend - San Diego - Austausch
DESCRIPTION:
URL:https://www.porciagymnasium.at/termin/6-ar-elternabend-san-diego-austausch/
END:VEVENT
END:VCALENDAR