BEGIN:VCALENDAR
VERSION:2.0
PRODID:-//BG|BRG Porcia - ECPv6.15.20//NONSGML v1.0//EN
CALSCALE:GREGORIAN
METHOD:PUBLISH
X-WR-CALNAME:BG|BRG Porcia
X-ORIGINAL-URL:https://www.porciagymnasium.at
X-WR-CALDESC:Veranstaltungen für BG|BRG Porcia
REFRESH-INTERVAL;VALUE=DURATION:PT1H
X-Robots-Tag:noindex
X-PUBLISHED-TTL:PT1H
BEGIN:VTIMEZONE
TZID:Europe/Vienna
BEGIN:DAYLIGHT
TZOFFSETFROM:+0100
TZOFFSETTO:+0200
TZNAME:CEST
DTSTART:20230326T010000
END:DAYLIGHT
BEGIN:STANDARD
TZOFFSETFROM:+0200
TZOFFSETTO:+0100
TZNAME:CET
DTSTART:20231029T010000
END:STANDARD
BEGIN:DAYLIGHT
TZOFFSETFROM:+0100
TZOFFSETTO:+0200
TZNAME:CEST
DTSTART:20240331T010000
END:DAYLIGHT
BEGIN:STANDARD
TZOFFSETFROM:+0200
TZOFFSETTO:+0100
TZNAME:CET
DTSTART:20241027T010000
END:STANDARD
BEGIN:DAYLIGHT
TZOFFSETFROM:+0100
TZOFFSETTO:+0200
TZNAME:CEST
DTSTART:20250330T010000
END:DAYLIGHT
BEGIN:STANDARD
TZOFFSETFROM:+0200
TZOFFSETTO:+0100
TZNAME:CET
DTSTART:20251026T010000
END:STANDARD
END:VTIMEZONE
BEGIN:VEVENT
DTSTART;TZID=Europe/Vienna:20240404T074500
DTEND;TZID=Europe/Vienna:20240404T093000
DTSTAMP:20260421T013436
CREATED:20240226T071810Z
LAST-MODIFIED:20240226T071810Z
UID:11454-1712216700-1712223000@www.porciagymnasium.at
SUMMARY:7.ag/ar/br  &  8.ar  -  Vortrag "Österreichs Außenwirtschaft" (WKO)
DESCRIPTION:
URL:https://www.porciagymnasium.at/termin/7-ag-ar-br-8-ar-vortrag-oesterreichs-aussenwirtschaft-wko/
END:VEVENT
BEGIN:VEVENT
DTSTART;TZID=Europe/Vienna:20240404T183000
DTEND;TZID=Europe/Vienna:20240404T200000
DTSTAMP:20260421T013436
CREATED:20240214T085301Z
LAST-MODIFIED:20240221T071627Z
UID:11392-1712255400-1712260800@www.porciagymnasium.at
SUMMARY:Elterninformationsabend 2. Klassen
DESCRIPTION:
URL:https://www.porciagymnasium.at/termin/elterninformationsabend-2-klassen/
CATEGORIES:WICHTIG
END:VEVENT
END:VCALENDAR