BEGIN:VCALENDAR
VERSION:2.0
PRODID:-//BG|BRG Porcia - ECPv6.15.20//NONSGML v1.0//EN
CALSCALE:GREGORIAN
METHOD:PUBLISH
X-ORIGINAL-URL:https://www.porciagymnasium.at
X-WR-CALDESC:Veranstaltungen für BG|BRG Porcia
REFRESH-INTERVAL;VALUE=DURATION:PT1H
X-Robots-Tag:noindex
X-PUBLISHED-TTL:PT1H
BEGIN:VTIMEZONE
TZID:Europe/Vienna
BEGIN:DAYLIGHT
TZOFFSETFROM:+0100
TZOFFSETTO:+0200
TZNAME:CEST
DTSTART:20220327T010000
END:DAYLIGHT
BEGIN:STANDARD
TZOFFSETFROM:+0200
TZOFFSETTO:+0100
TZNAME:CET
DTSTART:20221030T010000
END:STANDARD
BEGIN:DAYLIGHT
TZOFFSETFROM:+0100
TZOFFSETTO:+0200
TZNAME:CEST
DTSTART:20230326T010000
END:DAYLIGHT
BEGIN:STANDARD
TZOFFSETFROM:+0200
TZOFFSETTO:+0100
TZNAME:CET
DTSTART:20231029T010000
END:STANDARD
BEGIN:DAYLIGHT
TZOFFSETFROM:+0100
TZOFFSETTO:+0200
TZNAME:CEST
DTSTART:20240331T010000
END:DAYLIGHT
BEGIN:STANDARD
TZOFFSETFROM:+0200
TZOFFSETTO:+0100
TZNAME:CET
DTSTART:20241027T010000
END:STANDARD
END:VTIMEZONE
BEGIN:VEVENT
DTSTART;TZID=Europe/Vienna:20230330T080000
DTEND;TZID=Europe/Vienna:20230330T100000
DTSTAMP:20260422T100758
CREATED:20230309T063650Z
LAST-MODIFIED:20230310T070324Z
UID:9535-1680163200-1680170400@www.porciagymnasium.at
SUMMARY:Ostergottesdienst  -  1. & 2. Klassen
DESCRIPTION:
URL:https://www.porciagymnasium.at/termin/ostergottesdienst-1-2-klassen/
LOCATION:Kath. Stadtpfarrkirche
END:VEVENT
BEGIN:VEVENT
DTSTART;TZID=Europe/Vienna:20230330T100000
DTEND;TZID=Europe/Vienna:20230330T120000
DTSTAMP:20260422T100758
CREATED:20230309T064538Z
LAST-MODIFIED:20230310T070438Z
UID:9538-1680170400-1680177600@www.porciagymnasium.at
SUMMARY:Ostergottesdienst  -  3. & 4. Klassen
DESCRIPTION:
URL:https://www.porciagymnasium.at/termin/ostergottesdienst-3-4-klassen/
LOCATION:Kath. Stadtpfarrkirche
END:VEVENT
BEGIN:VEVENT
DTSTART;TZID=Europe/Vienna:20230330T120000
DTEND;TZID=Europe/Vienna:20230330T131500
DTSTAMP:20260422T100758
CREATED:20230309T065006Z
LAST-MODIFIED:20230310T070438Z
UID:9540-1680177600-1680182100@www.porciagymnasium.at
SUMMARY:Ostergottesdienst  -  Oberstufe
DESCRIPTION:
URL:https://www.porciagymnasium.at/termin/ostergottesdienst-oberstufe/
LOCATION:Kath. Stadtpfarrkirche
END:VEVENT
END:VCALENDAR