BEGIN:VCALENDAR
VERSION:2.0
PRODID:-//BG|BRG Porcia - ECPv6.15.20//NONSGML v1.0//EN
CALSCALE:GREGORIAN
METHOD:PUBLISH
X-WR-CALNAME:BG|BRG Porcia
X-ORIGINAL-URL:https://www.porciagymnasium.at
X-WR-CALDESC:Veranstaltungen für BG|BRG Porcia
REFRESH-INTERVAL;VALUE=DURATION:PT1H
X-Robots-Tag:noindex
X-PUBLISHED-TTL:PT1H
BEGIN:VTIMEZONE
TZID:Europe/Vienna
BEGIN:DAYLIGHT
TZOFFSETFROM:+0100
TZOFFSETTO:+0200
TZNAME:CEST
DTSTART:20220327T010000
END:DAYLIGHT
BEGIN:STANDARD
TZOFFSETFROM:+0200
TZOFFSETTO:+0100
TZNAME:CET
DTSTART:20221030T010000
END:STANDARD
BEGIN:DAYLIGHT
TZOFFSETFROM:+0100
TZOFFSETTO:+0200
TZNAME:CEST
DTSTART:20230326T010000
END:DAYLIGHT
BEGIN:STANDARD
TZOFFSETFROM:+0200
TZOFFSETTO:+0100
TZNAME:CET
DTSTART:20231029T010000
END:STANDARD
BEGIN:DAYLIGHT
TZOFFSETFROM:+0100
TZOFFSETTO:+0200
TZNAME:CEST
DTSTART:20240331T010000
END:DAYLIGHT
BEGIN:STANDARD
TZOFFSETFROM:+0200
TZOFFSETTO:+0100
TZNAME:CET
DTSTART:20241027T010000
END:STANDARD
END:VTIMEZONE
BEGIN:VEVENT
DTSTART;TZID=Europe/Vienna:20230223T173000
DTEND;TZID=Europe/Vienna:20230223T193000
DTSTAMP:20260422T082539
CREATED:20230222T101921Z
LAST-MODIFIED:20230222T101921Z
UID:9477-1677173400-1677180600@www.porciagymnasium.at
SUMMARY:Eltern & Jugend Workshop für Angemeldete der 3. Klassen
DESCRIPTION:
URL:https://www.porciagymnasium.at/termin/eltern-jugend-workshop-fuer-angemeldete-der-3-klassen-2/
END:VEVENT
BEGIN:VEVENT
DTSTART;TZID=Europe/Vienna:20230223T173000
DTEND;TZID=Europe/Vienna:20230223T193000
DTSTAMP:20260422T082539
CREATED:20230222T102000Z
LAST-MODIFIED:20230222T102000Z
UID:9479-1677173400-1677180600@www.porciagymnasium.at
SUMMARY:Eltern & Jugend Workshop für Angemeldete der 3. Klassen
DESCRIPTION:
URL:https://www.porciagymnasium.at/termin/eltern-jugend-workshop-fuer-angemeldete-der-3-klassen-3/
END:VEVENT
BEGIN:VEVENT
DTSTART;TZID=Europe/Vienna:20230223T183000
DTEND;TZID=Europe/Vienna:20230223T183000
DTSTAMP:20260422T082539
CREATED:20230220T064331Z
LAST-MODIFIED:20230220T093302Z
UID:9452-1677177000-1677177000@www.porciagymnasium.at
SUMMARY:6.A/B   -   Elternabend USA
DESCRIPTION:
URL:https://www.porciagymnasium.at/termin/6-a-b-elternabend-usa-2/
END:VEVENT
END:VCALENDAR