BEGIN:VCALENDAR
VERSION:2.0
PRODID:-//BG|BRG Porcia - ECPv6.15.20//NONSGML v1.0//EN
CALSCALE:GREGORIAN
METHOD:PUBLISH
X-WR-CALNAME:BG|BRG Porcia
X-ORIGINAL-URL:https://www.porciagymnasium.at
X-WR-CALDESC:Veranstaltungen für BG|BRG Porcia
REFRESH-INTERVAL;VALUE=DURATION:PT1H
X-Robots-Tag:noindex
X-PUBLISHED-TTL:PT1H
BEGIN:VTIMEZONE
TZID:Europe/Vienna
BEGIN:DAYLIGHT
TZOFFSETFROM:+0100
TZOFFSETTO:+0200
TZNAME:CEST
DTSTART:20190331T010000
END:DAYLIGHT
BEGIN:STANDARD
TZOFFSETFROM:+0200
TZOFFSETTO:+0100
TZNAME:CET
DTSTART:20191027T010000
END:STANDARD
BEGIN:DAYLIGHT
TZOFFSETFROM:+0100
TZOFFSETTO:+0200
TZNAME:CEST
DTSTART:20200329T010000
END:DAYLIGHT
BEGIN:STANDARD
TZOFFSETFROM:+0200
TZOFFSETTO:+0100
TZNAME:CET
DTSTART:20201025T010000
END:STANDARD
BEGIN:DAYLIGHT
TZOFFSETFROM:+0100
TZOFFSETTO:+0200
TZNAME:CEST
DTSTART:20210328T010000
END:DAYLIGHT
BEGIN:STANDARD
TZOFFSETFROM:+0200
TZOFFSETTO:+0100
TZNAME:CET
DTSTART:20211031T010000
END:STANDARD
END:VTIMEZONE
BEGIN:VTIMEZONE
TZID:Europe/Berlin
BEGIN:DAYLIGHT
TZOFFSETFROM:+0100
TZOFFSETTO:+0200
TZNAME:CEST
DTSTART:20190331T010000
END:DAYLIGHT
BEGIN:STANDARD
TZOFFSETFROM:+0200
TZOFFSETTO:+0100
TZNAME:CET
DTSTART:20191027T010000
END:STANDARD
BEGIN:DAYLIGHT
TZOFFSETFROM:+0100
TZOFFSETTO:+0200
TZNAME:CEST
DTSTART:20200329T010000
END:DAYLIGHT
BEGIN:STANDARD
TZOFFSETFROM:+0200
TZOFFSETTO:+0100
TZNAME:CET
DTSTART:20201025T010000
END:STANDARD
BEGIN:DAYLIGHT
TZOFFSETFROM:+0100
TZOFFSETTO:+0200
TZNAME:CEST
DTSTART:20210328T010000
END:DAYLIGHT
BEGIN:STANDARD
TZOFFSETFROM:+0200
TZOFFSETTO:+0100
TZNAME:CET
DTSTART:20211031T010000
END:STANDARD
END:VTIMEZONE
BEGIN:VEVENT
DTSTART;TZID=Europe/Vienna:20200504T080000
DTEND;TZID=Europe/Vienna:20200522T170000
DTSTAMP:20260422T001302
CREATED:20200416T061526Z
LAST-MODIFIED:20200506T055432Z
UID:3375-1588579200-1590166800@www.porciagymnasium.at
SUMMARY:Vorbereitung auf die RP vor Ort
DESCRIPTION:
URL:https://www.porciagymnasium.at/termin/vorbereitung-auf-die-rp-vor-ort/
CATEGORIES:Reifeprüfung
END:VEVENT
BEGIN:VEVENT
DTSTART;VALUE=DATE:20200518
DTEND;VALUE=DATE:20200519
DTSTAMP:20260422T001302
CREATED:20200504T075400Z
LAST-MODIFIED:20200504T075400Z
UID:3463-1589760000-1589846399@www.porciagymnasium.at
SUMMARY:Gruppe GELB
DESCRIPTION:
URL:https://www.porciagymnasium.at/termin/gruppe-gelb/
END:VEVENT
BEGIN:VEVENT
DTSTART;VALUE=DATE:20200518
DTEND;VALUE=DATE:20200519
DTSTAMP:20260422T001302
CREATED:20200512T135100Z
LAST-MODIFIED:20200512T135100Z
UID:7997-1589760000-1589846399@www.porciagymnasium.at
SUMMARY:Beginn des Unterrichts in der Schule für die Unterstufe
DESCRIPTION:
URL:https://www.porciagymnasium.at/termin/beginn-des-unterrichts-in-der-schule-fuer-die-unterstufe/
END:VEVENT
BEGIN:VEVENT
DTSTART;TZID=Europe/Vienna:20200518T100000
DTEND;TZID=Europe/Vienna:20200518T170000
DTSTAMP:20260422T001302
CREATED:20200429T103031Z
LAST-MODIFIED:20200429T103146Z
UID:3449-1589796000-1589821200@www.porciagymnasium.at
SUMMARY:Eintragung Noten 8-te Klassen - Teams
DESCRIPTION:
URL:https://www.porciagymnasium.at/termin/eintragung-noten-8-te-klassen-teams/
CATEGORIES:Reifeprüfung
END:VEVENT
END:VCALENDAR