BEGIN:VCALENDAR
VERSION:2.0
PRODID:-//BG|BRG Porcia - ECPv6.15.20//NONSGML v1.0//EN
CALSCALE:GREGORIAN
METHOD:PUBLISH
X-ORIGINAL-URL:https://www.porciagymnasium.at
X-WR-CALDESC:Veranstaltungen für BG|BRG Porcia
REFRESH-INTERVAL;VALUE=DURATION:PT1H
X-Robots-Tag:noindex
X-PUBLISHED-TTL:PT1H
BEGIN:VTIMEZONE
TZID:Europe/Vienna
BEGIN:DAYLIGHT
TZOFFSETFROM:+0100
TZOFFSETTO:+0200
TZNAME:CEST
DTSTART:20190331T010000
END:DAYLIGHT
BEGIN:STANDARD
TZOFFSETFROM:+0200
TZOFFSETTO:+0100
TZNAME:CET
DTSTART:20191027T010000
END:STANDARD
BEGIN:DAYLIGHT
TZOFFSETFROM:+0100
TZOFFSETTO:+0200
TZNAME:CEST
DTSTART:20200329T010000
END:DAYLIGHT
BEGIN:STANDARD
TZOFFSETFROM:+0200
TZOFFSETTO:+0100
TZNAME:CET
DTSTART:20201025T010000
END:STANDARD
BEGIN:DAYLIGHT
TZOFFSETFROM:+0100
TZOFFSETTO:+0200
TZNAME:CEST
DTSTART:20210328T010000
END:DAYLIGHT
BEGIN:STANDARD
TZOFFSETFROM:+0200
TZOFFSETTO:+0100
TZNAME:CET
DTSTART:20211031T010000
END:STANDARD
END:VTIMEZONE
BEGIN:VTIMEZONE
TZID:Europe/Berlin
BEGIN:DAYLIGHT
TZOFFSETFROM:+0100
TZOFFSETTO:+0200
TZNAME:CEST
DTSTART:20190331T010000
END:DAYLIGHT
BEGIN:STANDARD
TZOFFSETFROM:+0200
TZOFFSETTO:+0100
TZNAME:CET
DTSTART:20191027T010000
END:STANDARD
BEGIN:DAYLIGHT
TZOFFSETFROM:+0100
TZOFFSETTO:+0200
TZNAME:CEST
DTSTART:20200329T010000
END:DAYLIGHT
BEGIN:STANDARD
TZOFFSETFROM:+0200
TZOFFSETTO:+0100
TZNAME:CET
DTSTART:20201025T010000
END:STANDARD
BEGIN:DAYLIGHT
TZOFFSETFROM:+0100
TZOFFSETTO:+0200
TZNAME:CEST
DTSTART:20210328T010000
END:DAYLIGHT
BEGIN:STANDARD
TZOFFSETFROM:+0200
TZOFFSETTO:+0100
TZNAME:CET
DTSTART:20211031T010000
END:STANDARD
END:VTIMEZONE
BEGIN:VEVENT
DTSTART;TZID=Europe/Vienna:20200207T080000
DTEND;TZID=Europe/Vienna:20200228T150000
DTSTAMP:20260423T111548
CREATED:20200207T103642Z
LAST-MODIFIED:20200207T103642Z
UID:3087-1581062400-1582902000@www.porciagymnasium.at
SUMMARY:Einschreibung
DESCRIPTION:Die Anmeldung ist vom 7. Feber bis zum 28. Feber 2020 \nMontag – Freitag von 7:30 bis 15:00 Uhr im Sekretariat der Schule möglich.\nWährend der Semesterferien (10. Feber – 14. Feber) ist die Anmeldung zwischen 8:00 und 12:00 Uhr möglich.
URL:https://www.porciagymnasium.at/termin/einschreibung/
END:VEVENT
BEGIN:VEVENT
DTSTART;VALUE=DATE:20200224
DTEND;VALUE=DATE:20200229
DTSTAMP:20260423T111548
CREATED:20200218T170709Z
LAST-MODIFIED:20200218T170709Z
UID:7979-1582502400-1582934399@www.porciagymnasium.at
SUMMARY:Einschreibung 1. Klassen
DESCRIPTION:
URL:https://www.porciagymnasium.at/termin/einschreibung-1-klassen-2/
END:VEVENT
BEGIN:VEVENT
DTSTART;VALUE=DATE:20200227
DTEND;VALUE=DATE:20200228
DTSTAMP:20260423T111548
CREATED:20200218T171824Z
LAST-MODIFIED:20200218T171824Z
UID:7985-1582761600-1582847999@www.porciagymnasium.at
SUMMARY:Certamen Latinum (Latein-Olympiade) in St. Veit/Glan
DESCRIPTION:Teilnehmerinnen aus den 7. und 8. Klassen
URL:https://www.porciagymnasium.at/termin/certamen-latinum-latein-olympiade-in-st-veit-glan/
END:VEVENT
BEGIN:VEVENT
DTSTART;TZID=Europe/Vienna:20200227T080000
DTEND;TZID=Europe/Vienna:20200227T170000
DTSTAMP:20260423T111548
CREATED:20191007T101713Z
LAST-MODIFIED:20191007T101719Z
UID:2273-1582790400-1582822800@www.porciagymnasium.at
SUMMARY:Snowboard Schul Olympics Landesmeisterschaft
DESCRIPTION:
URL:https://www.porciagymnasium.at/termin/snowboard-schul-olympics-landesmeisterschaft/
LOCATION:Simonhöhe
END:VEVENT
END:VCALENDAR