BEGIN:VCALENDAR
VERSION:2.0
PRODID:-//BG|BRG Porcia - ECPv6.15.20//NONSGML v1.0//EN
CALSCALE:GREGORIAN
METHOD:PUBLISH
X-WR-CALNAME:BG|BRG Porcia
X-ORIGINAL-URL:https://www.porciagymnasium.at
X-WR-CALDESC:Veranstaltungen für BG|BRG Porcia
REFRESH-INTERVAL;VALUE=DURATION:PT1H
X-Robots-Tag:noindex
X-PUBLISHED-TTL:PT1H
BEGIN:VTIMEZONE
TZID:Europe/Vienna
BEGIN:DAYLIGHT
TZOFFSETFROM:+0100
TZOFFSETTO:+0200
TZNAME:CEST
DTSTART:20190331T010000
END:DAYLIGHT
BEGIN:STANDARD
TZOFFSETFROM:+0200
TZOFFSETTO:+0100
TZNAME:CET
DTSTART:20191027T010000
END:STANDARD
BEGIN:DAYLIGHT
TZOFFSETFROM:+0100
TZOFFSETTO:+0200
TZNAME:CEST
DTSTART:20200329T010000
END:DAYLIGHT
BEGIN:STANDARD
TZOFFSETFROM:+0200
TZOFFSETTO:+0100
TZNAME:CET
DTSTART:20201025T010000
END:STANDARD
BEGIN:DAYLIGHT
TZOFFSETFROM:+0100
TZOFFSETTO:+0200
TZNAME:CEST
DTSTART:20210328T010000
END:DAYLIGHT
BEGIN:STANDARD
TZOFFSETFROM:+0200
TZOFFSETTO:+0100
TZNAME:CET
DTSTART:20211031T010000
END:STANDARD
END:VTIMEZONE
BEGIN:VTIMEZONE
TZID:Europe/Berlin
BEGIN:DAYLIGHT
TZOFFSETFROM:+0100
TZOFFSETTO:+0200
TZNAME:CEST
DTSTART:20190331T010000
END:DAYLIGHT
BEGIN:STANDARD
TZOFFSETFROM:+0200
TZOFFSETTO:+0100
TZNAME:CET
DTSTART:20191027T010000
END:STANDARD
BEGIN:DAYLIGHT
TZOFFSETFROM:+0100
TZOFFSETTO:+0200
TZNAME:CEST
DTSTART:20200329T010000
END:DAYLIGHT
BEGIN:STANDARD
TZOFFSETFROM:+0200
TZOFFSETTO:+0100
TZNAME:CET
DTSTART:20201025T010000
END:STANDARD
BEGIN:DAYLIGHT
TZOFFSETFROM:+0100
TZOFFSETTO:+0200
TZNAME:CEST
DTSTART:20210328T010000
END:DAYLIGHT
BEGIN:STANDARD
TZOFFSETFROM:+0200
TZOFFSETTO:+0100
TZNAME:CET
DTSTART:20211031T010000
END:STANDARD
END:VTIMEZONE
BEGIN:VEVENT
DTSTART;TZID=Europe/Vienna:20200207T080000
DTEND;TZID=Europe/Vienna:20200228T150000
DTSTAMP:20260423T124619
CREATED:20200207T103642Z
LAST-MODIFIED:20200207T103642Z
UID:3087-1581062400-1582902000@www.porciagymnasium.at
SUMMARY:Einschreibung
DESCRIPTION:Die Anmeldung ist vom 7. Feber bis zum 28. Feber 2020 \nMontag – Freitag von 7:30 bis 15:00 Uhr im Sekretariat der Schule möglich.\nWährend der Semesterferien (10. Feber – 14. Feber) ist die Anmeldung zwischen 8:00 und 12:00 Uhr möglich.
URL:https://www.porciagymnasium.at/termin/einschreibung/
END:VEVENT
BEGIN:VEVENT
DTSTART;VALUE=DATE:20200209
DTEND;VALUE=DATE:20200227
DTSTAMP:20260423T124619
CREATED:20200218T170506Z
LAST-MODIFIED:20200218T170506Z
UID:7977-1581206400-1582761599@www.porciagymnasium.at
SUMMARY:Finnland-Aufenthalt
DESCRIPTION:
URL:https://www.porciagymnasium.at/termin/finnland-aufenthalt-2/
END:VEVENT
BEGIN:VEVENT
DTSTART;VALUE=DATE:20200210
DTEND;VALUE=DATE:20200217
DTSTAMP:20260423T124619
CREATED:20190820T201220Z
LAST-MODIFIED:20190820T201220Z
UID:7939-1581292800-1581897599@www.porciagymnasium.at
SUMMARY:Semesterferien
DESCRIPTION:
URL:https://www.porciagymnasium.at/termin/semesterferien-2-2/
END:VEVENT
BEGIN:VEVENT
DTSTART;VALUE=DATE:20200210
DTEND;VALUE=DATE:20200217
DTSTAMP:20260423T124619
CREATED:20190911T165617Z
LAST-MODIFIED:20190911T165617Z
UID:7974-1581292800-1581897599@www.porciagymnasium.at
SUMMARY:Semesterferien
DESCRIPTION:
URL:https://www.porciagymnasium.at/termin/semesterferien-3-2/
END:VEVENT
BEGIN:VEVENT
DTSTART;TZID=Europe/Vienna:20200210T080000
DTEND;TZID=Europe/Vienna:20200216T170000
DTSTAMP:20260423T124619
CREATED:20190819T094055Z
LAST-MODIFIED:20190830T084823Z
UID:1941-1581321600-1581872400@www.porciagymnasium.at
SUMMARY:Semesterferien
DESCRIPTION:
URL:https://www.porciagymnasium.at/termin/semesterferien-2/
CATEGORIES:FREI
END:VEVENT
END:VCALENDAR