BEGIN:VCALENDAR
VERSION:2.0
PRODID:-//BG|BRG Porcia - ECPv6.15.20//NONSGML v1.0//EN
CALSCALE:GREGORIAN
METHOD:PUBLISH
X-ORIGINAL-URL:https://www.porciagymnasium.at
X-WR-CALDESC:Veranstaltungen für BG|BRG Porcia
REFRESH-INTERVAL;VALUE=DURATION:PT1H
X-Robots-Tag:noindex
X-PUBLISHED-TTL:PT1H
BEGIN:VTIMEZONE
TZID:Europe/Vienna
BEGIN:DAYLIGHT
TZOFFSETFROM:+0100
TZOFFSETTO:+0200
TZNAME:CEST
DTSTART:20180325T010000
END:DAYLIGHT
BEGIN:STANDARD
TZOFFSETFROM:+0200
TZOFFSETTO:+0100
TZNAME:CET
DTSTART:20181028T010000
END:STANDARD
BEGIN:DAYLIGHT
TZOFFSETFROM:+0100
TZOFFSETTO:+0200
TZNAME:CEST
DTSTART:20190331T010000
END:DAYLIGHT
BEGIN:STANDARD
TZOFFSETFROM:+0200
TZOFFSETTO:+0100
TZNAME:CET
DTSTART:20191027T010000
END:STANDARD
BEGIN:DAYLIGHT
TZOFFSETFROM:+0100
TZOFFSETTO:+0200
TZNAME:CEST
DTSTART:20200329T010000
END:DAYLIGHT
BEGIN:STANDARD
TZOFFSETFROM:+0200
TZOFFSETTO:+0100
TZNAME:CET
DTSTART:20201025T010000
END:STANDARD
END:VTIMEZONE
BEGIN:VTIMEZONE
TZID:Europe/Berlin
BEGIN:DAYLIGHT
TZOFFSETFROM:+0100
TZOFFSETTO:+0200
TZNAME:CEST
DTSTART:20180325T010000
END:DAYLIGHT
BEGIN:STANDARD
TZOFFSETFROM:+0200
TZOFFSETTO:+0100
TZNAME:CET
DTSTART:20181028T010000
END:STANDARD
BEGIN:DAYLIGHT
TZOFFSETFROM:+0100
TZOFFSETTO:+0200
TZNAME:CEST
DTSTART:20190331T010000
END:DAYLIGHT
BEGIN:STANDARD
TZOFFSETFROM:+0200
TZOFFSETTO:+0100
TZNAME:CET
DTSTART:20191027T010000
END:STANDARD
BEGIN:DAYLIGHT
TZOFFSETFROM:+0100
TZOFFSETTO:+0200
TZNAME:CEST
DTSTART:20200329T010000
END:DAYLIGHT
BEGIN:STANDARD
TZOFFSETFROM:+0200
TZOFFSETTO:+0100
TZNAME:CET
DTSTART:20201025T010000
END:STANDARD
END:VTIMEZONE
BEGIN:VEVENT
DTSTART;TZID=Europe/Vienna:20191216T080000
DTEND;TZID=Europe/Vienna:20191220T170000
DTSTAMP:20260425T121804
CREATED:20191002T085528Z
LAST-MODIFIED:20191002T085533Z
UID:2193-1576483200-1576861200@www.porciagymnasium.at
SUMMARY:Schikurs  -  3-te A / G
DESCRIPTION:
URL:https://www.porciagymnasium.at/termin/schikurs-3-te-a-g/
LOCATION:Flachau
END:VEVENT
BEGIN:VEVENT
DTSTART;TZID=Europe/Vienna:20191216T080000
DTEND;TZID=Europe/Vienna:20191220T170000
DTSTAMP:20260425T121804
CREATED:20191002T085638Z
LAST-MODIFIED:20191002T085643Z
UID:2196-1576483200-1576861200@www.porciagymnasium.at
SUMMARY:Schikurs  -  3-te B / C
DESCRIPTION:
URL:https://www.porciagymnasium.at/termin/schikurs-3-te-b-c/
LOCATION:Nassfeld
END:VEVENT
BEGIN:VEVENT
DTSTART;VALUE=DATE:20191217
DTEND;VALUE=DATE:20191218
DTSTAMP:20260425T121804
CREATED:20190911T164417Z
LAST-MODIFIED:20190911T164417Z
UID:3031-1576540800-1576627199@www.porciagymnasium.at
SUMMARY:Benefizkonzert
DESCRIPTION:Stadtpfarrkirche\, Beginn 19:00 Uhr
URL:https://www.porciagymnasium.at/termin/benefizkonzert/
END:VEVENT
BEGIN:VEVENT
DTSTART;TZID=Europe/Vienna:20191217T190000
DTEND;TZID=Europe/Vienna:20191217T190000
DTSTAMP:20260425T121804
CREATED:20191112T071542Z
LAST-MODIFIED:20191112T071554Z
UID:2688-1576609200-1576609200@www.porciagymnasium.at
SUMMARY:Benefizkonzert der Gymnasien Spittal/Drau "Song of Christmas"
DESCRIPTION:
URL:https://www.porciagymnasium.at/termin/benefizkonzert-der-gymnasien-spittal-drau-song-of-christmas/
LOCATION:Stadtpfarrkirche Spittal
END:VEVENT
END:VCALENDAR