BEGIN:VCALENDAR
VERSION:2.0
PRODID:-//BG|BRG Porcia - ECPv6.15.20//NONSGML v1.0//EN
CALSCALE:GREGORIAN
METHOD:PUBLISH
X-ORIGINAL-URL:https://www.porciagymnasium.at
X-WR-CALDESC:Veranstaltungen für BG|BRG Porcia
REFRESH-INTERVAL;VALUE=DURATION:PT1H
X-Robots-Tag:noindex
X-PUBLISHED-TTL:PT1H
BEGIN:VTIMEZONE
TZID:Europe/Vienna
BEGIN:DAYLIGHT
TZOFFSETFROM:+0100
TZOFFSETTO:+0200
TZNAME:CEST
DTSTART:20180325T010000
END:DAYLIGHT
BEGIN:STANDARD
TZOFFSETFROM:+0200
TZOFFSETTO:+0100
TZNAME:CET
DTSTART:20181028T010000
END:STANDARD
BEGIN:DAYLIGHT
TZOFFSETFROM:+0100
TZOFFSETTO:+0200
TZNAME:CEST
DTSTART:20190331T010000
END:DAYLIGHT
BEGIN:STANDARD
TZOFFSETFROM:+0200
TZOFFSETTO:+0100
TZNAME:CET
DTSTART:20191027T010000
END:STANDARD
BEGIN:DAYLIGHT
TZOFFSETFROM:+0100
TZOFFSETTO:+0200
TZNAME:CEST
DTSTART:20200329T010000
END:DAYLIGHT
BEGIN:STANDARD
TZOFFSETFROM:+0200
TZOFFSETTO:+0100
TZNAME:CET
DTSTART:20201025T010000
END:STANDARD
END:VTIMEZONE
BEGIN:VEVENT
DTSTART;TZID=Europe/Vienna:20191205T080000
DTEND;TZID=Europe/Vienna:20191205T170000
DTSTAMP:20260425T121914
CREATED:20191107T075234Z
LAST-MODIFIED:20191107T075245Z
UID:2677-1575532800-1575565200@www.porciagymnasium.at
SUMMARY:Nikolausfein\, 3.A
DESCRIPTION:
URL:https://www.porciagymnasium.at/termin/nikolausfein-3-a/
LOCATION:Marienheim
END:VEVENT
BEGIN:VEVENT
DTSTART;TZID=Europe/Vienna:20191205T080000
DTEND;TZID=Europe/Vienna:20191205T170000
DTSTAMP:20260425T121914
CREATED:20191118T081349Z
LAST-MODIFIED:20191118T081359Z
UID:2736-1575532800-1575565200@www.porciagymnasium.at
SUMMARY:Nikolausfeier - 3.A
DESCRIPTION:
URL:https://www.porciagymnasium.at/termin/nikolausfeier-3-a/
LOCATION:Marienheim
END:VEVENT
END:VCALENDAR