BEGIN:VCALENDAR
VERSION:2.0
PRODID:-//BG|BRG Porcia - ECPv6.15.20//NONSGML v1.0//EN
CALSCALE:GREGORIAN
METHOD:PUBLISH
X-WR-CALNAME:BG|BRG Porcia
X-ORIGINAL-URL:https://www.porciagymnasium.at
X-WR-CALDESC:Veranstaltungen für BG|BRG Porcia
REFRESH-INTERVAL;VALUE=DURATION:PT1H
X-Robots-Tag:noindex
X-PUBLISHED-TTL:PT1H
BEGIN:VTIMEZONE
TZID:Europe/Vienna
BEGIN:DAYLIGHT
TZOFFSETFROM:+0100
TZOFFSETTO:+0200
TZNAME:CEST
DTSTART:20180325T010000
END:DAYLIGHT
BEGIN:STANDARD
TZOFFSETFROM:+0200
TZOFFSETTO:+0100
TZNAME:CET
DTSTART:20181028T010000
END:STANDARD
BEGIN:DAYLIGHT
TZOFFSETFROM:+0100
TZOFFSETTO:+0200
TZNAME:CEST
DTSTART:20190331T010000
END:DAYLIGHT
BEGIN:STANDARD
TZOFFSETFROM:+0200
TZOFFSETTO:+0100
TZNAME:CET
DTSTART:20191027T010000
END:STANDARD
BEGIN:DAYLIGHT
TZOFFSETFROM:+0100
TZOFFSETTO:+0200
TZNAME:CEST
DTSTART:20200329T010000
END:DAYLIGHT
BEGIN:STANDARD
TZOFFSETFROM:+0200
TZOFFSETTO:+0100
TZNAME:CET
DTSTART:20201025T010000
END:STANDARD
END:VTIMEZONE
BEGIN:VTIMEZONE
TZID:Europe/Berlin
BEGIN:DAYLIGHT
TZOFFSETFROM:+0100
TZOFFSETTO:+0200
TZNAME:CEST
DTSTART:20180325T010000
END:DAYLIGHT
BEGIN:STANDARD
TZOFFSETFROM:+0200
TZOFFSETTO:+0100
TZNAME:CET
DTSTART:20181028T010000
END:STANDARD
BEGIN:DAYLIGHT
TZOFFSETFROM:+0100
TZOFFSETTO:+0200
TZNAME:CEST
DTSTART:20190331T010000
END:DAYLIGHT
BEGIN:STANDARD
TZOFFSETFROM:+0200
TZOFFSETTO:+0100
TZNAME:CET
DTSTART:20191027T010000
END:STANDARD
BEGIN:DAYLIGHT
TZOFFSETFROM:+0100
TZOFFSETTO:+0200
TZNAME:CEST
DTSTART:20200329T010000
END:DAYLIGHT
BEGIN:STANDARD
TZOFFSETFROM:+0200
TZOFFSETTO:+0100
TZNAME:CET
DTSTART:20201025T010000
END:STANDARD
END:VTIMEZONE
BEGIN:VEVENT
DTSTART;VALUE=DATE:20191127
DTEND;VALUE=DATE:20191129
DTSTAMP:20260423T151253
CREATED:20190902T123002Z
LAST-MODIFIED:20190902T123418Z
UID:2041-1574812800-1574985599@www.porciagymnasium.at
SUMMARY:PV Wahlen
DESCRIPTION:
URL:https://www.porciagymnasium.at/termin/pv-wahlen/
CATEGORIES:Lehrer
END:VEVENT
BEGIN:VEVENT
DTSTART;VALUE=DATE:20191128
DTEND;VALUE=DATE:20191129
DTSTAMP:20260423T151253
CREATED:20190911T164120Z
LAST-MODIFIED:20190911T164120Z
UID:7963-1574899200-1574985599@www.porciagymnasium.at
SUMMARY:Themenpool mündliche Matura
DESCRIPTION:
URL:https://www.porciagymnasium.at/termin/themenpool-muendliche-matura/
END:VEVENT
BEGIN:VEVENT
DTSTART;TZID=Europe/Berlin:20191128T074500
DTEND;TZID=Europe/Berlin:20191128T131500
DTSTAMP:20260423T151253
CREATED:20190911T164054Z
LAST-MODIFIED:20190911T164054Z
UID:7962-1574927100-1574946900@www.porciagymnasium.at
SUMMARY:Adventkranzbinden der Klasse 4A
DESCRIPTION:
URL:https://www.porciagymnasium.at/termin/adventkranzbinden-der-klasse-4a/
END:VEVENT
BEGIN:VEVENT
DTSTART;TZID=Europe/Vienna:20191128T080000
DTEND;TZID=Europe/Vienna:20191128T170000
DTSTAMP:20260423T151253
CREATED:20191113T084455Z
LAST-MODIFIED:20191113T105245Z
UID:2700-1574928000-1574960400@www.porciagymnasium.at
SUMMARY:Sportakrobatik - Landesmeisterschaften
DESCRIPTION:
URL:https://www.porciagymnasium.at/termin/sportakrobatik-landesmeisterschaften/
END:VEVENT
BEGIN:VEVENT
DTSTART;TZID=Europe/Vienna:20191128T134500
DTEND;TZID=Europe/Vienna:20191128T170000
DTSTAMP:20260423T151253
CREATED:20191007T091159Z
LAST-MODIFIED:20191007T091204Z
UID:2248-1574948700-1574960400@www.porciagymnasium.at
SUMMARY:Schulpsychologie - Auswertung 4-te Klassen (1. Teil)
DESCRIPTION:
URL:https://www.porciagymnasium.at/termin/schulpsychologie-auswertung-4-te-klassen-1-teil/
END:VEVENT
END:VCALENDAR