BEGIN:VCALENDAR
VERSION:2.0
PRODID:-//BG|BRG Porcia - ECPv6.15.20//NONSGML v1.0//EN
CALSCALE:GREGORIAN
METHOD:PUBLISH
X-WR-CALNAME:BG|BRG Porcia
X-ORIGINAL-URL:https://www.porciagymnasium.at
X-WR-CALDESC:Veranstaltungen für BG|BRG Porcia
REFRESH-INTERVAL;VALUE=DURATION:PT1H
X-Robots-Tag:noindex
X-PUBLISHED-TTL:PT1H
BEGIN:VTIMEZONE
TZID:Europe/Vienna
BEGIN:DAYLIGHT
TZOFFSETFROM:+0100
TZOFFSETTO:+0200
TZNAME:CEST
DTSTART:20180325T010000
END:DAYLIGHT
BEGIN:STANDARD
TZOFFSETFROM:+0200
TZOFFSETTO:+0100
TZNAME:CET
DTSTART:20181028T010000
END:STANDARD
BEGIN:DAYLIGHT
TZOFFSETFROM:+0100
TZOFFSETTO:+0200
TZNAME:CEST
DTSTART:20190331T010000
END:DAYLIGHT
BEGIN:STANDARD
TZOFFSETFROM:+0200
TZOFFSETTO:+0100
TZNAME:CET
DTSTART:20191027T010000
END:STANDARD
BEGIN:DAYLIGHT
TZOFFSETFROM:+0100
TZOFFSETTO:+0200
TZNAME:CEST
DTSTART:20200329T010000
END:DAYLIGHT
BEGIN:STANDARD
TZOFFSETFROM:+0200
TZOFFSETTO:+0100
TZNAME:CET
DTSTART:20201025T010000
END:STANDARD
END:VTIMEZONE
BEGIN:VEVENT
DTSTART;TZID=Europe/Vienna:20191113T074500
DTEND;TZID=Europe/Vienna:20191113T112500
DTSTAMP:20260423T164427
CREATED:20191016T094805Z
LAST-MODIFIED:20191016T094811Z
UID:2503-1573631100-1573644300@www.porciagymnasium.at
SUMMARY:Ausstellung / Vortrag / Workshop - Wirtschaftsmuseum  -  4-D / B
DESCRIPTION:
URL:https://www.porciagymnasium.at/termin/ausstellung-vortrag-workshop-wirtschaftsmuseum-4-d-b/
LOCATION:Mehrzweckraum BRG
END:VEVENT
BEGIN:VEVENT
DTSTART;TZID=Europe/Vienna:20191113T113500
DTEND;TZID=Europe/Vienna:20191113T131500
DTSTAMP:20260423T164427
CREATED:20191016T094945Z
LAST-MODIFIED:20191016T094950Z
UID:2505-1573644900-1573650900@www.porciagymnasium.at
SUMMARY:Ausstellung / Vortrag / Workshop - Wirtschaftsmuseum  -  7-A/B
DESCRIPTION:
URL:https://www.porciagymnasium.at/termin/ausstellung-vortrag-workshop-wirtschaftsmuseum-7-a-b/
LOCATION:Mehrzweckraum BRG
END:VEVENT
BEGIN:VEVENT
DTSTART;TZID=Europe/Vienna:20191113T183000
DTEND;TZID=Europe/Vienna:20191113T203000
DTSTAMP:20260423T164427
CREATED:20191030T090249Z
LAST-MODIFIED:20191030T090249Z
UID:2642-1573669800-1573677000@www.porciagymnasium.at
SUMMARY:Elternabend 3. Klassen
DESCRIPTION:Informationen zur Bildungsberatung / Klassenelternabende
URL:https://www.porciagymnasium.at/termin/elternabend-3-klassen/
CATEGORIES:WICHTIG
END:VEVENT
BEGIN:VEVENT
DTSTART;TZID=Europe/Vienna:20191113T190000
DTEND;TZID=Europe/Vienna:20191113T210000
DTSTAMP:20260423T164427
CREATED:20190906T060405Z
LAST-MODIFIED:20191030T090152Z
UID:2075-1573671600-1573678800@www.porciagymnasium.at
SUMMARY:Elternabend 2.Kl./4.Kl
DESCRIPTION:2. Klassen: Klassenelternabende\n4. Klassen: Schullaufbahnberatung / Klassenelternabende
URL:https://www.porciagymnasium.at/termin/elternabend-2-kl-3-kl-4-kl/
CATEGORIES:WICHTIG
END:VEVENT
END:VCALENDAR