BEGIN:VCALENDAR
VERSION:2.0
PRODID:-//BG|BRG Porcia - ECPv6.15.20//NONSGML v1.0//EN
CALSCALE:GREGORIAN
METHOD:PUBLISH
X-WR-CALNAME:BG|BRG Porcia
X-ORIGINAL-URL:https://www.porciagymnasium.at
X-WR-CALDESC:Veranstaltungen für BG|BRG Porcia
REFRESH-INTERVAL;VALUE=DURATION:PT1H
X-Robots-Tag:noindex
X-PUBLISHED-TTL:PT1H
BEGIN:VTIMEZONE
TZID:Europe/Berlin
BEGIN:DAYLIGHT
TZOFFSETFROM:+0100
TZOFFSETTO:+0200
TZNAME:CEST
DTSTART:20180325T010000
END:DAYLIGHT
BEGIN:STANDARD
TZOFFSETFROM:+0200
TZOFFSETTO:+0100
TZNAME:CET
DTSTART:20181028T010000
END:STANDARD
BEGIN:DAYLIGHT
TZOFFSETFROM:+0100
TZOFFSETTO:+0200
TZNAME:CEST
DTSTART:20190331T010000
END:DAYLIGHT
BEGIN:STANDARD
TZOFFSETFROM:+0200
TZOFFSETTO:+0100
TZNAME:CET
DTSTART:20191027T010000
END:STANDARD
BEGIN:DAYLIGHT
TZOFFSETFROM:+0100
TZOFFSETTO:+0200
TZNAME:CEST
DTSTART:20200329T010000
END:DAYLIGHT
BEGIN:STANDARD
TZOFFSETFROM:+0200
TZOFFSETTO:+0100
TZNAME:CET
DTSTART:20201025T010000
END:STANDARD
END:VTIMEZONE
BEGIN:VEVENT
DTSTART;VALUE=DATE:20191105
DTEND;VALUE=DATE:20191106
DTSTAMP:20260423T164427
CREATED:20190911T163831Z
LAST-MODIFIED:20190911T163831Z
UID:7959-1572912000-1572998399@www.porciagymnasium.at
SUMMARY:Elternabend/Berufsorientierung der 3. und 4. Klassen
DESCRIPTION:Beginn 18:30 Uhr
URL:https://www.porciagymnasium.at/termin/elternabend-berufsorientierung-der-3-und-4-klassen/
END:VEVENT
BEGIN:VEVENT
DTSTART;TZID=Europe/Berlin:20191105T074500
DTEND;TZID=Europe/Berlin:20191105T134500
DTSTAMP:20260423T164427
CREATED:20190911T163626Z
LAST-MODIFIED:20190911T163626Z
UID:3011-1572939900-1572961500@www.porciagymnasium.at
SUMMARY:TAZ-Testung der Klasse 4B
DESCRIPTION:
URL:https://www.porciagymnasium.at/termin/taz-testung-der-klasse-4b/
END:VEVENT
END:VCALENDAR