BEGIN:VCALENDAR
VERSION:2.0
PRODID:-//BG|BRG Porcia - ECPv6.15.20//NONSGML v1.0//EN
CALSCALE:GREGORIAN
METHOD:PUBLISH
X-ORIGINAL-URL:https://www.porciagymnasium.at
X-WR-CALDESC:Veranstaltungen für BG|BRG Porcia
REFRESH-INTERVAL;VALUE=DURATION:PT1H
X-Robots-Tag:noindex
X-PUBLISHED-TTL:PT1H
BEGIN:VTIMEZONE
TZID:Europe/Vienna
BEGIN:DAYLIGHT
TZOFFSETFROM:+0100
TZOFFSETTO:+0200
TZNAME:CEST
DTSTART:20180325T010000
END:DAYLIGHT
BEGIN:STANDARD
TZOFFSETFROM:+0200
TZOFFSETTO:+0100
TZNAME:CET
DTSTART:20181028T010000
END:STANDARD
BEGIN:DAYLIGHT
TZOFFSETFROM:+0100
TZOFFSETTO:+0200
TZNAME:CEST
DTSTART:20190331T010000
END:DAYLIGHT
BEGIN:STANDARD
TZOFFSETFROM:+0200
TZOFFSETTO:+0100
TZNAME:CET
DTSTART:20191027T010000
END:STANDARD
BEGIN:DAYLIGHT
TZOFFSETFROM:+0100
TZOFFSETTO:+0200
TZNAME:CEST
DTSTART:20200329T010000
END:DAYLIGHT
BEGIN:STANDARD
TZOFFSETFROM:+0200
TZOFFSETTO:+0100
TZNAME:CET
DTSTART:20201025T010000
END:STANDARD
END:VTIMEZONE
BEGIN:VEVENT
DTSTART;TZID=Europe/Vienna:20191021T083000
DTEND;TZID=Europe/Vienna:20191021T112000
DTSTAMP:20260424T044247
CREATED:20190925T100746Z
LAST-MODIFIED:20190925T100746Z
UID:2158-1571646600-1571656800@www.porciagymnasium.at
SUMMARY:Leseherbst - Christoph Wortberg (zwei Lese-Einheiten)
DESCRIPTION:
URL:https://www.porciagymnasium.at/termin/leseherbst-christoph-wortberg-zwei-lese-einheiten/
LOCATION:Arena BRG Spittal\, Zernattostraße 10\, Spittal/Drau\, Kärnten\, 9800\, Austria
END:VEVENT
END:VCALENDAR